BEGIN:VCALENDAR
VERSION:2.0
PRODID:-//Baytown Little Theater - ECPv6.15.20//NONSGML v1.0//EN
CALSCALE:GREGORIAN
METHOD:PUBLISH
X-ORIGINAL-URL:https://baytownlittletheater.org
X-WR-CALDESC:Events for Baytown Little Theater
REFRESH-INTERVAL;VALUE=DURATION:PT1H
X-Robots-Tag:noindex
X-PUBLISHED-TTL:PT1H
BEGIN:VTIMEZONE
TZID:America/Chicago
BEGIN:DAYLIGHT
TZOFFSETFROM:-0600
TZOFFSETTO:-0500
TZNAME:CDT
DTSTART:20230312T080000
END:DAYLIGHT
BEGIN:STANDARD
TZOFFSETFROM:-0500
TZOFFSETTO:-0600
TZNAME:CST
DTSTART:20231105T070000
END:STANDARD
BEGIN:DAYLIGHT
TZOFFSETFROM:-0600
TZOFFSETTO:-0500
TZNAME:CDT
DTSTART:20240310T080000
END:DAYLIGHT
BEGIN:STANDARD
TZOFFSETFROM:-0500
TZOFFSETTO:-0600
TZNAME:CST
DTSTART:20241103T070000
END:STANDARD
BEGIN:DAYLIGHT
TZOFFSETFROM:-0600
TZOFFSETTO:-0500
TZNAME:CDT
DTSTART:20250309T080000
END:DAYLIGHT
BEGIN:STANDARD
TZOFFSETFROM:-0500
TZOFFSETTO:-0600
TZNAME:CST
DTSTART:20251102T070000
END:STANDARD
END:VTIMEZONE
BEGIN:VEVENT
DTSTART;TZID=America/Chicago:20240209T200000
DTEND;TZID=America/Chicago:20240209T223000
DTSTAMP:20260425T201623
CREATED:20230815T203454Z
LAST-MODIFIED:20240107T164829Z
UID:10000181-1707508800-1707517800@baytownlittletheater.org
SUMMARY:Luchadora!
DESCRIPTION:All Performance Dates:\nFebruary 9 & 10 – 8:00 pm\nFebruary 11 – 2:30 pm\nFebruary 16 & 17 – 8:00 pm\nFebruary 18 – 2:30 pm\nFebruary 23 & 24 – 8:00 pm\nFebruary 25 – 2:30 pm \nImagine the Chinese legend Hua Mulan set in the world of lucha libre—Mexican wrestling. The discovery of a worn pink wrestling mask prompts Nana Lupita\, a Wisconsin grandmother\, to share her tale about growing up in 1960s Texas. As her tale unfolds\, Lupita’s life as a teen tomboy comes alive—bike riding with her friends Leopold and Liesl\, working at her father’s flower stand and lucha libre. When a World Championship match is announced\, Lupita anticipates seeing it until she discovers her ailing father is one of the wrestlers. With the help of a magical mask maker\, Lupita secretly trains to take her father’s place. She soon finds it difficult keeping her secret from her friends and\, most importantly\, her father. \nDirected By: Joshua Figueroa \nAuditions:  Ended
URL:https://baytownlittletheater.org/event/luchadora/2024-02-09/
LOCATION:Baytown Little Theater\, 2 E Texas Ave\, Baytown\, TX\, 77520\, United States
END:VEVENT
BEGIN:VEVENT
DTSTART;TZID=America/Chicago:20240210T200000
DTEND;TZID=America/Chicago:20240210T223000
DTSTAMP:20260425T201623
CREATED:20230815T203454Z
LAST-MODIFIED:20240107T164829Z
UID:10000182-1707595200-1707604200@baytownlittletheater.org
SUMMARY:Luchadora!
DESCRIPTION:All Performance Dates:\nFebruary 9 & 10 – 8:00 pm\nFebruary 11 – 2:30 pm\nFebruary 16 & 17 – 8:00 pm\nFebruary 18 – 2:30 pm\nFebruary 23 & 24 – 8:00 pm\nFebruary 25 – 2:30 pm \nImagine the Chinese legend Hua Mulan set in the world of lucha libre—Mexican wrestling. The discovery of a worn pink wrestling mask prompts Nana Lupita\, a Wisconsin grandmother\, to share her tale about growing up in 1960s Texas. As her tale unfolds\, Lupita’s life as a teen tomboy comes alive—bike riding with her friends Leopold and Liesl\, working at her father’s flower stand and lucha libre. When a World Championship match is announced\, Lupita anticipates seeing it until she discovers her ailing father is one of the wrestlers. With the help of a magical mask maker\, Lupita secretly trains to take her father’s place. She soon finds it difficult keeping her secret from her friends and\, most importantly\, her father. \nDirected By: Joshua Figueroa \nAuditions:  Ended
URL:https://baytownlittletheater.org/event/luchadora/2024-02-10/
LOCATION:Baytown Little Theater\, 2 E Texas Ave\, Baytown\, TX\, 77520\, United States
END:VEVENT
BEGIN:VEVENT
DTSTART;TZID=America/Chicago:20240211T143000
DTEND;TZID=America/Chicago:20240211T170000
DTSTAMP:20260425T201623
CREATED:20230815T203454Z
LAST-MODIFIED:20240107T164829Z
UID:10000183-1707661800-1707670800@baytownlittletheater.org
SUMMARY:Luchadora!
DESCRIPTION:All Performance Dates:\nFebruary 9 & 10 – 8:00 pm\nFebruary 11 – 2:30 pm\nFebruary 16 & 17 – 8:00 pm\nFebruary 18 – 2:30 pm\nFebruary 23 & 24 – 8:00 pm\nFebruary 25 – 2:30 pm \nImagine the Chinese legend Hua Mulan set in the world of lucha libre—Mexican wrestling. The discovery of a worn pink wrestling mask prompts Nana Lupita\, a Wisconsin grandmother\, to share her tale about growing up in 1960s Texas. As her tale unfolds\, Lupita’s life as a teen tomboy comes alive—bike riding with her friends Leopold and Liesl\, working at her father’s flower stand and lucha libre. When a World Championship match is announced\, Lupita anticipates seeing it until she discovers her ailing father is one of the wrestlers. With the help of a magical mask maker\, Lupita secretly trains to take her father’s place. She soon finds it difficult keeping her secret from her friends and\, most importantly\, her father. \nDirected By: Joshua Figueroa \nAuditions:  Ended
URL:https://baytownlittletheater.org/event/luchadora/2024-02-11/
LOCATION:Baytown Little Theater\, 2 E Texas Ave\, Baytown\, TX\, 77520\, United States
END:VEVENT
BEGIN:VEVENT
DTSTART;TZID=America/Chicago:20240216T200000
DTEND;TZID=America/Chicago:20240216T223000
DTSTAMP:20260425T201623
CREATED:20230815T203454Z
LAST-MODIFIED:20240107T164829Z
UID:10000184-1708113600-1708122600@baytownlittletheater.org
SUMMARY:Luchadora!
DESCRIPTION:All Performance Dates:\nFebruary 9 & 10 – 8:00 pm\nFebruary 11 – 2:30 pm\nFebruary 16 & 17 – 8:00 pm\nFebruary 18 – 2:30 pm\nFebruary 23 & 24 – 8:00 pm\nFebruary 25 – 2:30 pm \nImagine the Chinese legend Hua Mulan set in the world of lucha libre—Mexican wrestling. The discovery of a worn pink wrestling mask prompts Nana Lupita\, a Wisconsin grandmother\, to share her tale about growing up in 1960s Texas. As her tale unfolds\, Lupita’s life as a teen tomboy comes alive—bike riding with her friends Leopold and Liesl\, working at her father’s flower stand and lucha libre. When a World Championship match is announced\, Lupita anticipates seeing it until she discovers her ailing father is one of the wrestlers. With the help of a magical mask maker\, Lupita secretly trains to take her father’s place. She soon finds it difficult keeping her secret from her friends and\, most importantly\, her father. \nDirected By: Joshua Figueroa \nAuditions:  Ended
URL:https://baytownlittletheater.org/event/luchadora/2024-02-16/
LOCATION:Baytown Little Theater\, 2 E Texas Ave\, Baytown\, TX\, 77520\, United States
END:VEVENT
BEGIN:VEVENT
DTSTART;TZID=America/Chicago:20240217T200000
DTEND;TZID=America/Chicago:20240217T223000
DTSTAMP:20260425T201623
CREATED:20230815T203454Z
LAST-MODIFIED:20240107T164829Z
UID:10000185-1708200000-1708209000@baytownlittletheater.org
SUMMARY:Luchadora!
DESCRIPTION:All Performance Dates:\nFebruary 9 & 10 – 8:00 pm\nFebruary 11 – 2:30 pm\nFebruary 16 & 17 – 8:00 pm\nFebruary 18 – 2:30 pm\nFebruary 23 & 24 – 8:00 pm\nFebruary 25 – 2:30 pm \nImagine the Chinese legend Hua Mulan set in the world of lucha libre—Mexican wrestling. The discovery of a worn pink wrestling mask prompts Nana Lupita\, a Wisconsin grandmother\, to share her tale about growing up in 1960s Texas. As her tale unfolds\, Lupita’s life as a teen tomboy comes alive—bike riding with her friends Leopold and Liesl\, working at her father’s flower stand and lucha libre. When a World Championship match is announced\, Lupita anticipates seeing it until she discovers her ailing father is one of the wrestlers. With the help of a magical mask maker\, Lupita secretly trains to take her father’s place. She soon finds it difficult keeping her secret from her friends and\, most importantly\, her father. \nDirected By: Joshua Figueroa \nAuditions:  Ended
URL:https://baytownlittletheater.org/event/luchadora/2024-02-17/
LOCATION:Baytown Little Theater\, 2 E Texas Ave\, Baytown\, TX\, 77520\, United States
END:VEVENT
BEGIN:VEVENT
DTSTART;TZID=America/Chicago:20240218T143000
DTEND;TZID=America/Chicago:20240218T170000
DTSTAMP:20260425T201623
CREATED:20230815T203454Z
LAST-MODIFIED:20240107T164829Z
UID:10000186-1708266600-1708275600@baytownlittletheater.org
SUMMARY:Luchadora!
DESCRIPTION:All Performance Dates:\nFebruary 9 & 10 – 8:00 pm\nFebruary 11 – 2:30 pm\nFebruary 16 & 17 – 8:00 pm\nFebruary 18 – 2:30 pm\nFebruary 23 & 24 – 8:00 pm\nFebruary 25 – 2:30 pm \nImagine the Chinese legend Hua Mulan set in the world of lucha libre—Mexican wrestling. The discovery of a worn pink wrestling mask prompts Nana Lupita\, a Wisconsin grandmother\, to share her tale about growing up in 1960s Texas. As her tale unfolds\, Lupita’s life as a teen tomboy comes alive—bike riding with her friends Leopold and Liesl\, working at her father’s flower stand and lucha libre. When a World Championship match is announced\, Lupita anticipates seeing it until she discovers her ailing father is one of the wrestlers. With the help of a magical mask maker\, Lupita secretly trains to take her father’s place. She soon finds it difficult keeping her secret from her friends and\, most importantly\, her father. \nDirected By: Joshua Figueroa \nAuditions:  Ended
URL:https://baytownlittletheater.org/event/luchadora/2024-02-18/
LOCATION:Baytown Little Theater\, 2 E Texas Ave\, Baytown\, TX\, 77520\, United States
END:VEVENT
BEGIN:VEVENT
DTSTART;TZID=America/Chicago:20240223T200000
DTEND;TZID=America/Chicago:20240223T223000
DTSTAMP:20260425T201623
CREATED:20230815T203454Z
LAST-MODIFIED:20240107T164829Z
UID:10000187-1708718400-1708727400@baytownlittletheater.org
SUMMARY:Luchadora!
DESCRIPTION:All Performance Dates:\nFebruary 9 & 10 – 8:00 pm\nFebruary 11 – 2:30 pm\nFebruary 16 & 17 – 8:00 pm\nFebruary 18 – 2:30 pm\nFebruary 23 & 24 – 8:00 pm\nFebruary 25 – 2:30 pm \nImagine the Chinese legend Hua Mulan set in the world of lucha libre—Mexican wrestling. The discovery of a worn pink wrestling mask prompts Nana Lupita\, a Wisconsin grandmother\, to share her tale about growing up in 1960s Texas. As her tale unfolds\, Lupita’s life as a teen tomboy comes alive—bike riding with her friends Leopold and Liesl\, working at her father’s flower stand and lucha libre. When a World Championship match is announced\, Lupita anticipates seeing it until she discovers her ailing father is one of the wrestlers. With the help of a magical mask maker\, Lupita secretly trains to take her father’s place. She soon finds it difficult keeping her secret from her friends and\, most importantly\, her father. \nDirected By: Joshua Figueroa \nAuditions:  Ended
URL:https://baytownlittletheater.org/event/luchadora/2024-02-23/
LOCATION:Baytown Little Theater\, 2 E Texas Ave\, Baytown\, TX\, 77520\, United States
END:VEVENT
BEGIN:VEVENT
DTSTART;TZID=America/Chicago:20240224T200000
DTEND;TZID=America/Chicago:20240224T223000
DTSTAMP:20260425T201623
CREATED:20230815T203454Z
LAST-MODIFIED:20240107T164829Z
UID:10000188-1708804800-1708813800@baytownlittletheater.org
SUMMARY:Luchadora!
DESCRIPTION:All Performance Dates:\nFebruary 9 & 10 – 8:00 pm\nFebruary 11 – 2:30 pm\nFebruary 16 & 17 – 8:00 pm\nFebruary 18 – 2:30 pm\nFebruary 23 & 24 – 8:00 pm\nFebruary 25 – 2:30 pm \nImagine the Chinese legend Hua Mulan set in the world of lucha libre—Mexican wrestling. The discovery of a worn pink wrestling mask prompts Nana Lupita\, a Wisconsin grandmother\, to share her tale about growing up in 1960s Texas. As her tale unfolds\, Lupita’s life as a teen tomboy comes alive—bike riding with her friends Leopold and Liesl\, working at her father’s flower stand and lucha libre. When a World Championship match is announced\, Lupita anticipates seeing it until she discovers her ailing father is one of the wrestlers. With the help of a magical mask maker\, Lupita secretly trains to take her father’s place. She soon finds it difficult keeping her secret from her friends and\, most importantly\, her father. \nDirected By: Joshua Figueroa \nAuditions:  Ended
URL:https://baytownlittletheater.org/event/luchadora/2024-02-24/
LOCATION:Baytown Little Theater\, 2 E Texas Ave\, Baytown\, TX\, 77520\, United States
END:VEVENT
BEGIN:VEVENT
DTSTART;TZID=America/Chicago:20240225T143000
DTEND;TZID=America/Chicago:20240225T170000
DTSTAMP:20260425T201623
CREATED:20230815T203454Z
LAST-MODIFIED:20240107T164829Z
UID:10000189-1708871400-1708880400@baytownlittletheater.org
SUMMARY:Luchadora!
DESCRIPTION:All Performance Dates:\nFebruary 9 & 10 – 8:00 pm\nFebruary 11 – 2:30 pm\nFebruary 16 & 17 – 8:00 pm\nFebruary 18 – 2:30 pm\nFebruary 23 & 24 – 8:00 pm\nFebruary 25 – 2:30 pm \nImagine the Chinese legend Hua Mulan set in the world of lucha libre—Mexican wrestling. The discovery of a worn pink wrestling mask prompts Nana Lupita\, a Wisconsin grandmother\, to share her tale about growing up in 1960s Texas. As her tale unfolds\, Lupita’s life as a teen tomboy comes alive—bike riding with her friends Leopold and Liesl\, working at her father’s flower stand and lucha libre. When a World Championship match is announced\, Lupita anticipates seeing it until she discovers her ailing father is one of the wrestlers. With the help of a magical mask maker\, Lupita secretly trains to take her father’s place. She soon finds it difficult keeping her secret from her friends and\, most importantly\, her father. \nDirected By: Joshua Figueroa \nAuditions:  Ended
URL:https://baytownlittletheater.org/event/luchadora/2024-02-25/
LOCATION:Baytown Little Theater\, 2 E Texas Ave\, Baytown\, TX\, 77520\, United States
END:VEVENT
END:VCALENDAR