BEGIN:VCALENDAR
VERSION:2.0
PRODID:-//Baytown Little Theater - ECPv6.15.20//NONSGML v1.0//EN
CALSCALE:GREGORIAN
METHOD:PUBLISH
X-WR-CALNAME:Baytown Little Theater
X-ORIGINAL-URL:https://baytownlittletheater.org
X-WR-CALDESC:Events for Baytown Little Theater
REFRESH-INTERVAL;VALUE=DURATION:PT1H
X-Robots-Tag:noindex
X-PUBLISHED-TTL:PT1H
BEGIN:VTIMEZONE
TZID:America/Chicago
BEGIN:DAYLIGHT
TZOFFSETFROM:-0600
TZOFFSETTO:-0500
TZNAME:CDT
DTSTART:20230312T080000
END:DAYLIGHT
BEGIN:STANDARD
TZOFFSETFROM:-0500
TZOFFSETTO:-0600
TZNAME:CST
DTSTART:20231105T070000
END:STANDARD
BEGIN:DAYLIGHT
TZOFFSETFROM:-0600
TZOFFSETTO:-0500
TZNAME:CDT
DTSTART:20240310T080000
END:DAYLIGHT
BEGIN:STANDARD
TZOFFSETFROM:-0500
TZOFFSETTO:-0600
TZNAME:CST
DTSTART:20241103T070000
END:STANDARD
BEGIN:DAYLIGHT
TZOFFSETFROM:-0600
TZOFFSETTO:-0500
TZNAME:CDT
DTSTART:20250309T080000
END:DAYLIGHT
BEGIN:STANDARD
TZOFFSETFROM:-0500
TZOFFSETTO:-0600
TZNAME:CST
DTSTART:20251102T070000
END:STANDARD
END:VTIMEZONE
BEGIN:VEVENT
DTSTART;TZID=America/Chicago:20240322T200000
DTEND;TZID=America/Chicago:20240322T223000
DTSTAMP:20260425T184148
CREATED:20230815T205054Z
LAST-MODIFIED:20240516T120857Z
UID:10000199-1711137600-1711146600@baytownlittletheater.org
SUMMARY:Murder On The Nile
DESCRIPTION:All Performance Dates:\nMarch 22 & 23 – 8:00 pm\nMarch 24 – 2:30 pm\nMarch 29 & 30 – 8:00 pm\nMarch 31 – 2:30 pm\nApril 5 & 6 – 8:00 pm\nApril 7 – 2:30 pm \nKay Ridgeway has led a charmed life. Blessed with beauty\, enormous wealth\, and a new husband\, she embarks on a honeymoon voyage down the Nile. Fatal circumstances await when the idyllic surroundings are shattered by a shocking and brutal murder. Under scrutiny is a multitude of memorable passengers\, all with a reason to kill. The tension and claustrophobia builds\, as a shocking and audacious conspiracy is laid bare. \nDirected By: Julia Jay \nAuditions:  Ended
URL:https://baytownlittletheater.org/event/murder-on-the-nile/2024-03-22/
LOCATION:Baytown Little Theater\, 2 E Texas Ave\, Baytown\, TX\, 77520\, United States
END:VEVENT
BEGIN:VEVENT
DTSTART;TZID=America/Chicago:20240323T200000
DTEND;TZID=America/Chicago:20240323T223000
DTSTAMP:20260425T184148
CREATED:20230815T205054Z
LAST-MODIFIED:20240516T120857Z
UID:10000200-1711224000-1711233000@baytownlittletheater.org
SUMMARY:Murder On The Nile
DESCRIPTION:All Performance Dates:\nMarch 22 & 23 – 8:00 pm\nMarch 24 – 2:30 pm\nMarch 29 & 30 – 8:00 pm\nMarch 31 – 2:30 pm\nApril 5 & 6 – 8:00 pm\nApril 7 – 2:30 pm \nKay Ridgeway has led a charmed life. Blessed with beauty\, enormous wealth\, and a new husband\, she embarks on a honeymoon voyage down the Nile. Fatal circumstances await when the idyllic surroundings are shattered by a shocking and brutal murder. Under scrutiny is a multitude of memorable passengers\, all with a reason to kill. The tension and claustrophobia builds\, as a shocking and audacious conspiracy is laid bare. \nDirected By: Julia Jay \nAuditions:  Ended
URL:https://baytownlittletheater.org/event/murder-on-the-nile/2024-03-23/
LOCATION:Baytown Little Theater\, 2 E Texas Ave\, Baytown\, TX\, 77520\, United States
END:VEVENT
BEGIN:VEVENT
DTSTART;TZID=America/Chicago:20240324T143000
DTEND;TZID=America/Chicago:20240324T170000
DTSTAMP:20260425T184148
CREATED:20230815T205054Z
LAST-MODIFIED:20240516T120857Z
UID:10000201-1711290600-1711299600@baytownlittletheater.org
SUMMARY:Murder On The Nile
DESCRIPTION:All Performance Dates:\nMarch 22 & 23 – 8:00 pm\nMarch 24 – 2:30 pm\nMarch 29 & 30 – 8:00 pm\nMarch 31 – 2:30 pm\nApril 5 & 6 – 8:00 pm\nApril 7 – 2:30 pm \nKay Ridgeway has led a charmed life. Blessed with beauty\, enormous wealth\, and a new husband\, she embarks on a honeymoon voyage down the Nile. Fatal circumstances await when the idyllic surroundings are shattered by a shocking and brutal murder. Under scrutiny is a multitude of memorable passengers\, all with a reason to kill. The tension and claustrophobia builds\, as a shocking and audacious conspiracy is laid bare. \nDirected By: Julia Jay \nAuditions:  Ended
URL:https://baytownlittletheater.org/event/murder-on-the-nile/2024-03-24/
LOCATION:Baytown Little Theater\, 2 E Texas Ave\, Baytown\, TX\, 77520\, United States
END:VEVENT
BEGIN:VEVENT
DTSTART;TZID=America/Chicago:20240329T200000
DTEND;TZID=America/Chicago:20240329T223000
DTSTAMP:20260425T184148
CREATED:20230815T205054Z
LAST-MODIFIED:20240516T120857Z
UID:10000202-1711742400-1711751400@baytownlittletheater.org
SUMMARY:Murder On The Nile
DESCRIPTION:All Performance Dates:\nMarch 22 & 23 – 8:00 pm\nMarch 24 – 2:30 pm\nMarch 29 & 30 – 8:00 pm\nMarch 31 – 2:30 pm\nApril 5 & 6 – 8:00 pm\nApril 7 – 2:30 pm \nKay Ridgeway has led a charmed life. Blessed with beauty\, enormous wealth\, and a new husband\, she embarks on a honeymoon voyage down the Nile. Fatal circumstances await when the idyllic surroundings are shattered by a shocking and brutal murder. Under scrutiny is a multitude of memorable passengers\, all with a reason to kill. The tension and claustrophobia builds\, as a shocking and audacious conspiracy is laid bare. \nDirected By: Julia Jay \nAuditions:  Ended
URL:https://baytownlittletheater.org/event/murder-on-the-nile/2024-03-29/
LOCATION:Baytown Little Theater\, 2 E Texas Ave\, Baytown\, TX\, 77520\, United States
END:VEVENT
BEGIN:VEVENT
DTSTART;TZID=America/Chicago:20240330T200000
DTEND;TZID=America/Chicago:20240330T223000
DTSTAMP:20260425T184148
CREATED:20230815T205054Z
LAST-MODIFIED:20240516T120857Z
UID:10000203-1711828800-1711837800@baytownlittletheater.org
SUMMARY:Murder On The Nile
DESCRIPTION:All Performance Dates:\nMarch 22 & 23 – 8:00 pm\nMarch 24 – 2:30 pm\nMarch 29 & 30 – 8:00 pm\nMarch 31 – 2:30 pm\nApril 5 & 6 – 8:00 pm\nApril 7 – 2:30 pm \nKay Ridgeway has led a charmed life. Blessed with beauty\, enormous wealth\, and a new husband\, she embarks on a honeymoon voyage down the Nile. Fatal circumstances await when the idyllic surroundings are shattered by a shocking and brutal murder. Under scrutiny is a multitude of memorable passengers\, all with a reason to kill. The tension and claustrophobia builds\, as a shocking and audacious conspiracy is laid bare. \nDirected By: Julia Jay \nAuditions:  Ended
URL:https://baytownlittletheater.org/event/murder-on-the-nile/2024-03-30/
LOCATION:Baytown Little Theater\, 2 E Texas Ave\, Baytown\, TX\, 77520\, United States
END:VEVENT
BEGIN:VEVENT
DTSTART;TZID=America/Chicago:20240331T143000
DTEND;TZID=America/Chicago:20240331T170000
DTSTAMP:20260425T184148
CREATED:20230815T205054Z
LAST-MODIFIED:20240516T120857Z
UID:10000204-1711895400-1711904400@baytownlittletheater.org
SUMMARY:Murder On The Nile
DESCRIPTION:All Performance Dates:\nMarch 22 & 23 – 8:00 pm\nMarch 24 – 2:30 pm\nMarch 29 & 30 – 8:00 pm\nMarch 31 – 2:30 pm\nApril 5 & 6 – 8:00 pm\nApril 7 – 2:30 pm \nKay Ridgeway has led a charmed life. Blessed with beauty\, enormous wealth\, and a new husband\, she embarks on a honeymoon voyage down the Nile. Fatal circumstances await when the idyllic surroundings are shattered by a shocking and brutal murder. Under scrutiny is a multitude of memorable passengers\, all with a reason to kill. The tension and claustrophobia builds\, as a shocking and audacious conspiracy is laid bare. \nDirected By: Julia Jay \nAuditions:  Ended
URL:https://baytownlittletheater.org/event/murder-on-the-nile/2024-03-31/
LOCATION:Baytown Little Theater\, 2 E Texas Ave\, Baytown\, TX\, 77520\, United States
END:VEVENT
END:VCALENDAR