BEGIN:VCALENDAR
VERSION:2.0
PRODID:-//Baytown Little Theater - ECPv6.15.20//NONSGML v1.0//EN
CALSCALE:GREGORIAN
METHOD:PUBLISH
X-WR-CALNAME:Baytown Little Theater
X-ORIGINAL-URL:https://baytownlittletheater.org
X-WR-CALDESC:Events for Baytown Little Theater
REFRESH-INTERVAL;VALUE=DURATION:PT1H
X-Robots-Tag:noindex
X-PUBLISHED-TTL:PT1H
BEGIN:VTIMEZONE
TZID:America/Chicago
BEGIN:DAYLIGHT
TZOFFSETFROM:-0600
TZOFFSETTO:-0500
TZNAME:CDT
DTSTART:20230312T080000
END:DAYLIGHT
BEGIN:STANDARD
TZOFFSETFROM:-0500
TZOFFSETTO:-0600
TZNAME:CST
DTSTART:20231105T070000
END:STANDARD
BEGIN:DAYLIGHT
TZOFFSETFROM:-0600
TZOFFSETTO:-0500
TZNAME:CDT
DTSTART:20240310T080000
END:DAYLIGHT
BEGIN:STANDARD
TZOFFSETFROM:-0500
TZOFFSETTO:-0600
TZNAME:CST
DTSTART:20241103T070000
END:STANDARD
BEGIN:DAYLIGHT
TZOFFSETFROM:-0600
TZOFFSETTO:-0500
TZNAME:CDT
DTSTART:20250309T080000
END:DAYLIGHT
BEGIN:STANDARD
TZOFFSETFROM:-0500
TZOFFSETTO:-0600
TZNAME:CST
DTSTART:20251102T070000
END:STANDARD
END:VTIMEZONE
BEGIN:VEVENT
DTSTART;TZID=America/Chicago:20240726T200000
DTEND;TZID=America/Chicago:20240726T223000
DTSTAMP:20260425T124145
CREATED:20230816T175642Z
LAST-MODIFIED:20240606T002809Z
UID:10000239-1722024000-1722033000@baytownlittletheater.org
SUMMARY:The Music Man
DESCRIPTION:All Performance Dates:\nJuly 26 & 27 – 8:00 pm\nJuly 28 – 2:30 pm\nAugust 2 & 3 – 8:00 pm\nAugust 4 – 2:30 pm \nThere’s trouble in River City! When smooth-talking con man Harold Hill arrives in a small\, tight-knit town in Iowa\, he expects to dupe its residents with his elaborate moneymaking scheme: Despite his complete lack of musical literacy\, he will convince everyone that he is a brilliant bandleader and recruit all the boys in town to form a band\, pocketing the cash for instruments and uniforms. The problem? Some of the town members\, especially the stern librarian\, Marian Paroo\, don’t quite buy Harold’s story. \nAs Harold struggles to keep his scheme afloat\, he also finds himself increasingly attached to the townspeople\, who have all experienced a positive change since Harold came to town. Complicating matters even more\, Harold is also falling head-over-heels for the beautiful Marian. \nDirected By: Jim Wadzinski \nAuditions:  Ended
URL:https://baytownlittletheater.org/event/the-music-man/2024-07-26/
LOCATION:LEE COLLEGE PERFORMING ARTS CENTER\, 805 West Texas Avenue\, Baytown\, TX\, 77520\, United States
END:VEVENT
BEGIN:VEVENT
DTSTART;TZID=America/Chicago:20240727T200000
DTEND;TZID=America/Chicago:20240727T223000
DTSTAMP:20260425T124145
CREATED:20230816T175642Z
LAST-MODIFIED:20240606T002809Z
UID:10000240-1722110400-1722119400@baytownlittletheater.org
SUMMARY:The Music Man
DESCRIPTION:All Performance Dates:\nJuly 26 & 27 – 8:00 pm\nJuly 28 – 2:30 pm\nAugust 2 & 3 – 8:00 pm\nAugust 4 – 2:30 pm \nThere’s trouble in River City! When smooth-talking con man Harold Hill arrives in a small\, tight-knit town in Iowa\, he expects to dupe its residents with his elaborate moneymaking scheme: Despite his complete lack of musical literacy\, he will convince everyone that he is a brilliant bandleader and recruit all the boys in town to form a band\, pocketing the cash for instruments and uniforms. The problem? Some of the town members\, especially the stern librarian\, Marian Paroo\, don’t quite buy Harold’s story. \nAs Harold struggles to keep his scheme afloat\, he also finds himself increasingly attached to the townspeople\, who have all experienced a positive change since Harold came to town. Complicating matters even more\, Harold is also falling head-over-heels for the beautiful Marian. \nDirected By: Jim Wadzinski \nAuditions:  Ended
URL:https://baytownlittletheater.org/event/the-music-man/2024-07-27/
LOCATION:LEE COLLEGE PERFORMING ARTS CENTER\, 805 West Texas Avenue\, Baytown\, TX\, 77520\, United States
END:VEVENT
BEGIN:VEVENT
DTSTART;TZID=America/Chicago:20240728T143000
DTEND;TZID=America/Chicago:20240728T170000
DTSTAMP:20260425T124145
CREATED:20230816T175642Z
LAST-MODIFIED:20240606T002809Z
UID:10000241-1722177000-1722186000@baytownlittletheater.org
SUMMARY:The Music Man
DESCRIPTION:All Performance Dates:\nJuly 26 & 27 – 8:00 pm\nJuly 28 – 2:30 pm\nAugust 2 & 3 – 8:00 pm\nAugust 4 – 2:30 pm \nThere’s trouble in River City! When smooth-talking con man Harold Hill arrives in a small\, tight-knit town in Iowa\, he expects to dupe its residents with his elaborate moneymaking scheme: Despite his complete lack of musical literacy\, he will convince everyone that he is a brilliant bandleader and recruit all the boys in town to form a band\, pocketing the cash for instruments and uniforms. The problem? Some of the town members\, especially the stern librarian\, Marian Paroo\, don’t quite buy Harold’s story. \nAs Harold struggles to keep his scheme afloat\, he also finds himself increasingly attached to the townspeople\, who have all experienced a positive change since Harold came to town. Complicating matters even more\, Harold is also falling head-over-heels for the beautiful Marian. \nDirected By: Jim Wadzinski \nAuditions:  Ended
URL:https://baytownlittletheater.org/event/the-music-man/2024-07-28/
LOCATION:LEE COLLEGE PERFORMING ARTS CENTER\, 805 West Texas Avenue\, Baytown\, TX\, 77520\, United States
END:VEVENT
END:VCALENDAR