BEGIN:VCALENDAR
VERSION:2.0
PRODID:-//Baytown Little Theater - ECPv6.15.20//NONSGML v1.0//EN
CALSCALE:GREGORIAN
METHOD:PUBLISH
X-WR-CALNAME:Baytown Little Theater
X-ORIGINAL-URL:https://baytownlittletheater.org
X-WR-CALDESC:Events for Baytown Little Theater
REFRESH-INTERVAL;VALUE=DURATION:PT1H
X-Robots-Tag:noindex
X-PUBLISHED-TTL:PT1H
BEGIN:VTIMEZONE
TZID:America/Chicago
BEGIN:DAYLIGHT
TZOFFSETFROM:-0600
TZOFFSETTO:-0500
TZNAME:CDT
DTSTART:20230312T080000
END:DAYLIGHT
BEGIN:STANDARD
TZOFFSETFROM:-0500
TZOFFSETTO:-0600
TZNAME:CST
DTSTART:20231105T070000
END:STANDARD
BEGIN:DAYLIGHT
TZOFFSETFROM:-0600
TZOFFSETTO:-0500
TZNAME:CDT
DTSTART:20240310T080000
END:DAYLIGHT
BEGIN:STANDARD
TZOFFSETFROM:-0500
TZOFFSETTO:-0600
TZNAME:CST
DTSTART:20241103T070000
END:STANDARD
BEGIN:DAYLIGHT
TZOFFSETFROM:-0600
TZOFFSETTO:-0500
TZNAME:CDT
DTSTART:20250309T080000
END:DAYLIGHT
BEGIN:STANDARD
TZOFFSETFROM:-0500
TZOFFSETTO:-0600
TZNAME:CST
DTSTART:20251102T070000
END:STANDARD
END:VTIMEZONE
BEGIN:VEVENT
DTSTART;TZID=America/Chicago:20241004T200000
DTEND;TZID=America/Chicago:20241004T223000
DTSTAMP:20260425T081010
CREATED:20240821T003538Z
LAST-MODIFIED:20250205T000047Z
UID:10000288-1728072000-1728081000@baytownlittletheater.org
SUMMARY:Queen of Bingo
DESCRIPTION:All Performance Dates:\nSeptember 27 & 28 – 8:00 pm\nSeptember 29 – 2:30 pm\nOctober 4 & 5 – 8:00 pm\nOctober 6 – 2:30 pm\nOctober 11 & 12 – 8:00 pm\nOctober 13 – 2:30 pm \nIn the tradition of the hilarious Harvey Korman and Tim Conway sketches from the old Carol Burnett Show\, comes the stage comedy The Queen of Bingo! ‘Sis’ and ‘Babe\,’ two sisters on the other side of 50\, want to add a little fun and excitement to their lives…but where to find it? BINGO! \nJeanne Michels and Phyllis Murphy’s The Queen of Bingo explores the worlds of Bingo\, family ties\, diet crazes\, widowhood\, hot flashes and winning! The audience joins in the fun during the “Middle Bird Special” – a real Bingo game where some lucky audience member wins a FREE 10 lb. frozen turkey at every performance! Theatregoers young and old will howl with laughter as two zany gals\, light up the stage in the comedy hit The Queen of Bingo! \nDirected By: Lyle Tate & Lee Dempsey \nAuditions:  Ended \nBuy Tickets Now
URL:https://baytownlittletheater.org/event/queen-of-bingo/2024-10-04/
LOCATION:Baytown Little Theater\, 2 E Texas Ave\, Baytown\, TX\, 77520\, United States
END:VEVENT
BEGIN:VEVENT
DTSTART;TZID=America/Chicago:20241005T200000
DTEND;TZID=America/Chicago:20241005T223000
DTSTAMP:20260425T081010
CREATED:20240821T003538Z
LAST-MODIFIED:20250205T000047Z
UID:10000289-1728158400-1728167400@baytownlittletheater.org
SUMMARY:Queen of Bingo
DESCRIPTION:All Performance Dates:\nSeptember 27 & 28 – 8:00 pm\nSeptember 29 – 2:30 pm\nOctober 4 & 5 – 8:00 pm\nOctober 6 – 2:30 pm\nOctober 11 & 12 – 8:00 pm\nOctober 13 – 2:30 pm \nIn the tradition of the hilarious Harvey Korman and Tim Conway sketches from the old Carol Burnett Show\, comes the stage comedy The Queen of Bingo! ‘Sis’ and ‘Babe\,’ two sisters on the other side of 50\, want to add a little fun and excitement to their lives…but where to find it? BINGO! \nJeanne Michels and Phyllis Murphy’s The Queen of Bingo explores the worlds of Bingo\, family ties\, diet crazes\, widowhood\, hot flashes and winning! The audience joins in the fun during the “Middle Bird Special” – a real Bingo game where some lucky audience member wins a FREE 10 lb. frozen turkey at every performance! Theatregoers young and old will howl with laughter as two zany gals\, light up the stage in the comedy hit The Queen of Bingo! \nDirected By: Lyle Tate & Lee Dempsey \nAuditions:  Ended \nBuy Tickets Now
URL:https://baytownlittletheater.org/event/queen-of-bingo/2024-10-05/
LOCATION:Baytown Little Theater\, 2 E Texas Ave\, Baytown\, TX\, 77520\, United States
END:VEVENT
BEGIN:VEVENT
DTSTART;TZID=America/Chicago:20241006T143000
DTEND;TZID=America/Chicago:20241006T170000
DTSTAMP:20260425T081010
CREATED:20240821T003538Z
LAST-MODIFIED:20250205T000047Z
UID:10000290-1728225000-1728234000@baytownlittletheater.org
SUMMARY:Queen of Bingo
DESCRIPTION:All Performance Dates:\nSeptember 27 & 28 – 8:00 pm\nSeptember 29 – 2:30 pm\nOctober 4 & 5 – 8:00 pm\nOctober 6 – 2:30 pm\nOctober 11 & 12 – 8:00 pm\nOctober 13 – 2:30 pm \nIn the tradition of the hilarious Harvey Korman and Tim Conway sketches from the old Carol Burnett Show\, comes the stage comedy The Queen of Bingo! ‘Sis’ and ‘Babe\,’ two sisters on the other side of 50\, want to add a little fun and excitement to their lives…but where to find it? BINGO! \nJeanne Michels and Phyllis Murphy’s The Queen of Bingo explores the worlds of Bingo\, family ties\, diet crazes\, widowhood\, hot flashes and winning! The audience joins in the fun during the “Middle Bird Special” – a real Bingo game where some lucky audience member wins a FREE 10 lb. frozen turkey at every performance! Theatregoers young and old will howl with laughter as two zany gals\, light up the stage in the comedy hit The Queen of Bingo! \nDirected By: Lyle Tate & Lee Dempsey \nAuditions:  Ended \nBuy Tickets Now
URL:https://baytownlittletheater.org/event/queen-of-bingo/2024-10-06/
LOCATION:Baytown Little Theater\, 2 E Texas Ave\, Baytown\, TX\, 77520\, United States
END:VEVENT
BEGIN:VEVENT
DTSTART;TZID=America/Chicago:20241011T200000
DTEND;TZID=America/Chicago:20241011T223000
DTSTAMP:20260425T081010
CREATED:20240821T003538Z
LAST-MODIFIED:20250205T000047Z
UID:10000291-1728676800-1728685800@baytownlittletheater.org
SUMMARY:Queen of Bingo
DESCRIPTION:All Performance Dates:\nSeptember 27 & 28 – 8:00 pm\nSeptember 29 – 2:30 pm\nOctober 4 & 5 – 8:00 pm\nOctober 6 – 2:30 pm\nOctober 11 & 12 – 8:00 pm\nOctober 13 – 2:30 pm \nIn the tradition of the hilarious Harvey Korman and Tim Conway sketches from the old Carol Burnett Show\, comes the stage comedy The Queen of Bingo! ‘Sis’ and ‘Babe\,’ two sisters on the other side of 50\, want to add a little fun and excitement to their lives…but where to find it? BINGO! \nJeanne Michels and Phyllis Murphy’s The Queen of Bingo explores the worlds of Bingo\, family ties\, diet crazes\, widowhood\, hot flashes and winning! The audience joins in the fun during the “Middle Bird Special” – a real Bingo game where some lucky audience member wins a FREE 10 lb. frozen turkey at every performance! Theatregoers young and old will howl with laughter as two zany gals\, light up the stage in the comedy hit The Queen of Bingo! \nDirected By: Lyle Tate & Lee Dempsey \nAuditions:  Ended \nBuy Tickets Now
URL:https://baytownlittletheater.org/event/queen-of-bingo/2024-10-11/
LOCATION:Baytown Little Theater\, 2 E Texas Ave\, Baytown\, TX\, 77520\, United States
END:VEVENT
BEGIN:VEVENT
DTSTART;TZID=America/Chicago:20241012T200000
DTEND;TZID=America/Chicago:20241012T223000
DTSTAMP:20260425T081010
CREATED:20240821T003538Z
LAST-MODIFIED:20250205T000047Z
UID:10000292-1728763200-1728772200@baytownlittletheater.org
SUMMARY:Queen of Bingo
DESCRIPTION:All Performance Dates:\nSeptember 27 & 28 – 8:00 pm\nSeptember 29 – 2:30 pm\nOctober 4 & 5 – 8:00 pm\nOctober 6 – 2:30 pm\nOctober 11 & 12 – 8:00 pm\nOctober 13 – 2:30 pm \nIn the tradition of the hilarious Harvey Korman and Tim Conway sketches from the old Carol Burnett Show\, comes the stage comedy The Queen of Bingo! ‘Sis’ and ‘Babe\,’ two sisters on the other side of 50\, want to add a little fun and excitement to their lives…but where to find it? BINGO! \nJeanne Michels and Phyllis Murphy’s The Queen of Bingo explores the worlds of Bingo\, family ties\, diet crazes\, widowhood\, hot flashes and winning! The audience joins in the fun during the “Middle Bird Special” – a real Bingo game where some lucky audience member wins a FREE 10 lb. frozen turkey at every performance! Theatregoers young and old will howl with laughter as two zany gals\, light up the stage in the comedy hit The Queen of Bingo! \nDirected By: Lyle Tate & Lee Dempsey \nAuditions:  Ended \nBuy Tickets Now
URL:https://baytownlittletheater.org/event/queen-of-bingo/2024-10-12/
LOCATION:Baytown Little Theater\, 2 E Texas Ave\, Baytown\, TX\, 77520\, United States
END:VEVENT
BEGIN:VEVENT
DTSTART;TZID=America/Chicago:20241013T143000
DTEND;TZID=America/Chicago:20241013T170000
DTSTAMP:20260425T081010
CREATED:20240821T003538Z
LAST-MODIFIED:20250205T000047Z
UID:10000293-1728829800-1728838800@baytownlittletheater.org
SUMMARY:Queen of Bingo
DESCRIPTION:All Performance Dates:\nSeptember 27 & 28 – 8:00 pm\nSeptember 29 – 2:30 pm\nOctober 4 & 5 – 8:00 pm\nOctober 6 – 2:30 pm\nOctober 11 & 12 – 8:00 pm\nOctober 13 – 2:30 pm \nIn the tradition of the hilarious Harvey Korman and Tim Conway sketches from the old Carol Burnett Show\, comes the stage comedy The Queen of Bingo! ‘Sis’ and ‘Babe\,’ two sisters on the other side of 50\, want to add a little fun and excitement to their lives…but where to find it? BINGO! \nJeanne Michels and Phyllis Murphy’s The Queen of Bingo explores the worlds of Bingo\, family ties\, diet crazes\, widowhood\, hot flashes and winning! The audience joins in the fun during the “Middle Bird Special” – a real Bingo game where some lucky audience member wins a FREE 10 lb. frozen turkey at every performance! Theatregoers young and old will howl with laughter as two zany gals\, light up the stage in the comedy hit The Queen of Bingo! \nDirected By: Lyle Tate & Lee Dempsey \nAuditions:  Ended \nBuy Tickets Now
URL:https://baytownlittletheater.org/event/queen-of-bingo/2024-10-13/
LOCATION:Baytown Little Theater\, 2 E Texas Ave\, Baytown\, TX\, 77520\, United States
END:VEVENT
BEGIN:VEVENT
DTSTART;TZID=America/Chicago:20241018T200000
DTEND;TZID=America/Chicago:20241018T223000
DTSTAMP:20260425T081010
CREATED:20240830T190410Z
LAST-MODIFIED:20240902T185332Z
UID:10000374-1729281600-1729290600@baytownlittletheater.org
SUMMARY:Tale Of La Llorona
DESCRIPTION:A BLT Next Generation Youth Co. Teen Production\n(Spooky Season Edition)\nAll Performance Dates:\nOctober 18 & 19 – 8:00 pm\nOctober 20 – 2:30 pm\nOctober 25 & 26 – 8:00 pm\nOctober 27 – 2:30 pm \nSet on a stormy Halloween night\, “The Tale of La Llorona as Told by Consuelo Chavez” follows a group of six close-knit eighth graders—Consuelo\, Chuy\, Michael\, Lisa\, Angel\, and Taylor—who are disappointed when bad weather cancels their trick-or-treating plans. Stranded inside\, the friends find themselves reminiscing about past Halloweens and telling spooky stories to pass the time. As the night unfolds\, Consuelo\, the group’s nurturing leader\, shares the chilling tale of La Llorona\, a legendary figure from Mexican folklore who haunts rivers and lakes\, crying for the children she drowned. \nWhat begins as a playful evening quickly takes a darker turn as the line between reality and myth blurs. The friends find themselves questioning whether they are simply sharing ghost stories or if something more sinister is at play. As Consuelo’s storytelling grows more intense\, strange and eerie occurrences lead the group to wonder if La Llorona has truly come to visit them. \nThrough the suspense and scares\, the play delves into themes of friendship\, growing up\, and the fear of change. The friends face their uncertainties about the future and their worries about drifting apart as they prepare to enter high school. In the end\, the play offers a heartwarming message about the enduring power of friendship\, even in the face of fear and the unknown. \nThis suspenseful and emotionally charged play is perfect for middle schoolers and offers young performers the opportunity to explore rich characters and deliver a range of emotions\, from lighthearted fun to spine-tingling fear. The play provides a unique blend of cultural storytelling and the universal coming-of-age experience\, making it an engaging choice for both audiences and aspiring young actors. \nDirected By: Nohelia Cantu \nAuditions: September 6 & 7 \nBuy Tickets Now \nFootnote:\nPlease be advised that “The Tale of La Llorona as Told by Consuelo Chavez” contains elements of suspense and horror\, including discussions of ghost stories\, myths\, and themes related to death. These elements may be unsettling for younger or more sensitive viewers. 
URL:https://baytownlittletheater.org/event/tale-of-la-llorona/2024-10-18/
LOCATION:Baytown Little Theater\, 2 E Texas Ave\, Baytown\, TX\, 77520\, United States
END:VEVENT
BEGIN:VEVENT
DTSTART;TZID=America/Chicago:20241019T200000
DTEND;TZID=America/Chicago:20241019T223000
DTSTAMP:20260425T081010
CREATED:20240830T190410Z
LAST-MODIFIED:20240902T185332Z
UID:10000375-1729368000-1729377000@baytownlittletheater.org
SUMMARY:Tale Of La Llorona
DESCRIPTION:A BLT Next Generation Youth Co. Teen Production\n(Spooky Season Edition)\nAll Performance Dates:\nOctober 18 & 19 – 8:00 pm\nOctober 20 – 2:30 pm\nOctober 25 & 26 – 8:00 pm\nOctober 27 – 2:30 pm \nSet on a stormy Halloween night\, “The Tale of La Llorona as Told by Consuelo Chavez” follows a group of six close-knit eighth graders—Consuelo\, Chuy\, Michael\, Lisa\, Angel\, and Taylor—who are disappointed when bad weather cancels their trick-or-treating plans. Stranded inside\, the friends find themselves reminiscing about past Halloweens and telling spooky stories to pass the time. As the night unfolds\, Consuelo\, the group’s nurturing leader\, shares the chilling tale of La Llorona\, a legendary figure from Mexican folklore who haunts rivers and lakes\, crying for the children she drowned. \nWhat begins as a playful evening quickly takes a darker turn as the line between reality and myth blurs. The friends find themselves questioning whether they are simply sharing ghost stories or if something more sinister is at play. As Consuelo’s storytelling grows more intense\, strange and eerie occurrences lead the group to wonder if La Llorona has truly come to visit them. \nThrough the suspense and scares\, the play delves into themes of friendship\, growing up\, and the fear of change. The friends face their uncertainties about the future and their worries about drifting apart as they prepare to enter high school. In the end\, the play offers a heartwarming message about the enduring power of friendship\, even in the face of fear and the unknown. \nThis suspenseful and emotionally charged play is perfect for middle schoolers and offers young performers the opportunity to explore rich characters and deliver a range of emotions\, from lighthearted fun to spine-tingling fear. The play provides a unique blend of cultural storytelling and the universal coming-of-age experience\, making it an engaging choice for both audiences and aspiring young actors. \nDirected By: Nohelia Cantu \nAuditions: September 6 & 7 \nBuy Tickets Now \nFootnote:\nPlease be advised that “The Tale of La Llorona as Told by Consuelo Chavez” contains elements of suspense and horror\, including discussions of ghost stories\, myths\, and themes related to death. These elements may be unsettling for younger or more sensitive viewers. 
URL:https://baytownlittletheater.org/event/tale-of-la-llorona/2024-10-19/
LOCATION:Baytown Little Theater\, 2 E Texas Ave\, Baytown\, TX\, 77520\, United States
END:VEVENT
BEGIN:VEVENT
DTSTART;TZID=America/Chicago:20241020T143000
DTEND;TZID=America/Chicago:20241020T170000
DTSTAMP:20260425T081010
CREATED:20240830T190410Z
LAST-MODIFIED:20240902T185332Z
UID:10000376-1729434600-1729443600@baytownlittletheater.org
SUMMARY:Tale Of La Llorona
DESCRIPTION:A BLT Next Generation Youth Co. Teen Production\n(Spooky Season Edition)\nAll Performance Dates:\nOctober 18 & 19 – 8:00 pm\nOctober 20 – 2:30 pm\nOctober 25 & 26 – 8:00 pm\nOctober 27 – 2:30 pm \nSet on a stormy Halloween night\, “The Tale of La Llorona as Told by Consuelo Chavez” follows a group of six close-knit eighth graders—Consuelo\, Chuy\, Michael\, Lisa\, Angel\, and Taylor—who are disappointed when bad weather cancels their trick-or-treating plans. Stranded inside\, the friends find themselves reminiscing about past Halloweens and telling spooky stories to pass the time. As the night unfolds\, Consuelo\, the group’s nurturing leader\, shares the chilling tale of La Llorona\, a legendary figure from Mexican folklore who haunts rivers and lakes\, crying for the children she drowned. \nWhat begins as a playful evening quickly takes a darker turn as the line between reality and myth blurs. The friends find themselves questioning whether they are simply sharing ghost stories or if something more sinister is at play. As Consuelo’s storytelling grows more intense\, strange and eerie occurrences lead the group to wonder if La Llorona has truly come to visit them. \nThrough the suspense and scares\, the play delves into themes of friendship\, growing up\, and the fear of change. The friends face their uncertainties about the future and their worries about drifting apart as they prepare to enter high school. In the end\, the play offers a heartwarming message about the enduring power of friendship\, even in the face of fear and the unknown. \nThis suspenseful and emotionally charged play is perfect for middle schoolers and offers young performers the opportunity to explore rich characters and deliver a range of emotions\, from lighthearted fun to spine-tingling fear. The play provides a unique blend of cultural storytelling and the universal coming-of-age experience\, making it an engaging choice for both audiences and aspiring young actors. \nDirected By: Nohelia Cantu \nAuditions: September 6 & 7 \nBuy Tickets Now \nFootnote:\nPlease be advised that “The Tale of La Llorona as Told by Consuelo Chavez” contains elements of suspense and horror\, including discussions of ghost stories\, myths\, and themes related to death. These elements may be unsettling for younger or more sensitive viewers. 
URL:https://baytownlittletheater.org/event/tale-of-la-llorona/2024-10-20/
LOCATION:Baytown Little Theater\, 2 E Texas Ave\, Baytown\, TX\, 77520\, United States
END:VEVENT
BEGIN:VEVENT
DTSTART;TZID=America/Chicago:20241025T200000
DTEND;TZID=America/Chicago:20241025T223000
DTSTAMP:20260425T081010
CREATED:20240830T190410Z
LAST-MODIFIED:20240902T185332Z
UID:10000371-1729886400-1729895400@baytownlittletheater.org
SUMMARY:Tale Of La Llorona
DESCRIPTION:A BLT Next Generation Youth Co. Teen Production\n(Spooky Season Edition)\nAll Performance Dates:\nOctober 18 & 19 – 8:00 pm\nOctober 20 – 2:30 pm\nOctober 25 & 26 – 8:00 pm\nOctober 27 – 2:30 pm \nSet on a stormy Halloween night\, “The Tale of La Llorona as Told by Consuelo Chavez” follows a group of six close-knit eighth graders—Consuelo\, Chuy\, Michael\, Lisa\, Angel\, and Taylor—who are disappointed when bad weather cancels their trick-or-treating plans. Stranded inside\, the friends find themselves reminiscing about past Halloweens and telling spooky stories to pass the time. As the night unfolds\, Consuelo\, the group’s nurturing leader\, shares the chilling tale of La Llorona\, a legendary figure from Mexican folklore who haunts rivers and lakes\, crying for the children she drowned. \nWhat begins as a playful evening quickly takes a darker turn as the line between reality and myth blurs. The friends find themselves questioning whether they are simply sharing ghost stories or if something more sinister is at play. As Consuelo’s storytelling grows more intense\, strange and eerie occurrences lead the group to wonder if La Llorona has truly come to visit them. \nThrough the suspense and scares\, the play delves into themes of friendship\, growing up\, and the fear of change. The friends face their uncertainties about the future and their worries about drifting apart as they prepare to enter high school. In the end\, the play offers a heartwarming message about the enduring power of friendship\, even in the face of fear and the unknown. \nThis suspenseful and emotionally charged play is perfect for middle schoolers and offers young performers the opportunity to explore rich characters and deliver a range of emotions\, from lighthearted fun to spine-tingling fear. The play provides a unique blend of cultural storytelling and the universal coming-of-age experience\, making it an engaging choice for both audiences and aspiring young actors. \nDirected By: Nohelia Cantu \nAuditions: September 6 & 7 \nBuy Tickets Now \nFootnote:\nPlease be advised that “The Tale of La Llorona as Told by Consuelo Chavez” contains elements of suspense and horror\, including discussions of ghost stories\, myths\, and themes related to death. These elements may be unsettling for younger or more sensitive viewers. 
URL:https://baytownlittletheater.org/event/tale-of-la-llorona/2024-10-25/
LOCATION:Baytown Little Theater\, 2 E Texas Ave\, Baytown\, TX\, 77520\, United States
END:VEVENT
BEGIN:VEVENT
DTSTART;TZID=America/Chicago:20241026T200000
DTEND;TZID=America/Chicago:20241026T223000
DTSTAMP:20260425T081010
CREATED:20240830T190410Z
LAST-MODIFIED:20240902T185332Z
UID:10000372-1729972800-1729981800@baytownlittletheater.org
SUMMARY:Tale Of La Llorona
DESCRIPTION:A BLT Next Generation Youth Co. Teen Production\n(Spooky Season Edition)\nAll Performance Dates:\nOctober 18 & 19 – 8:00 pm\nOctober 20 – 2:30 pm\nOctober 25 & 26 – 8:00 pm\nOctober 27 – 2:30 pm \nSet on a stormy Halloween night\, “The Tale of La Llorona as Told by Consuelo Chavez” follows a group of six close-knit eighth graders—Consuelo\, Chuy\, Michael\, Lisa\, Angel\, and Taylor—who are disappointed when bad weather cancels their trick-or-treating plans. Stranded inside\, the friends find themselves reminiscing about past Halloweens and telling spooky stories to pass the time. As the night unfolds\, Consuelo\, the group’s nurturing leader\, shares the chilling tale of La Llorona\, a legendary figure from Mexican folklore who haunts rivers and lakes\, crying for the children she drowned. \nWhat begins as a playful evening quickly takes a darker turn as the line between reality and myth blurs. The friends find themselves questioning whether they are simply sharing ghost stories or if something more sinister is at play. As Consuelo’s storytelling grows more intense\, strange and eerie occurrences lead the group to wonder if La Llorona has truly come to visit them. \nThrough the suspense and scares\, the play delves into themes of friendship\, growing up\, and the fear of change. The friends face their uncertainties about the future and their worries about drifting apart as they prepare to enter high school. In the end\, the play offers a heartwarming message about the enduring power of friendship\, even in the face of fear and the unknown. \nThis suspenseful and emotionally charged play is perfect for middle schoolers and offers young performers the opportunity to explore rich characters and deliver a range of emotions\, from lighthearted fun to spine-tingling fear. The play provides a unique blend of cultural storytelling and the universal coming-of-age experience\, making it an engaging choice for both audiences and aspiring young actors. \nDirected By: Nohelia Cantu \nAuditions: September 6 & 7 \nBuy Tickets Now \nFootnote:\nPlease be advised that “The Tale of La Llorona as Told by Consuelo Chavez” contains elements of suspense and horror\, including discussions of ghost stories\, myths\, and themes related to death. These elements may be unsettling for younger or more sensitive viewers. 
URL:https://baytownlittletheater.org/event/tale-of-la-llorona/2024-10-26/
LOCATION:Baytown Little Theater\, 2 E Texas Ave\, Baytown\, TX\, 77520\, United States
END:VEVENT
BEGIN:VEVENT
DTSTART;TZID=America/Chicago:20241027T143000
DTEND;TZID=America/Chicago:20241027T170000
DTSTAMP:20260425T081010
CREATED:20240830T190410Z
LAST-MODIFIED:20240902T185332Z
UID:10000373-1730039400-1730048400@baytownlittletheater.org
SUMMARY:Tale Of La Llorona
DESCRIPTION:A BLT Next Generation Youth Co. Teen Production\n(Spooky Season Edition)\nAll Performance Dates:\nOctober 18 & 19 – 8:00 pm\nOctober 20 – 2:30 pm\nOctober 25 & 26 – 8:00 pm\nOctober 27 – 2:30 pm \nSet on a stormy Halloween night\, “The Tale of La Llorona as Told by Consuelo Chavez” follows a group of six close-knit eighth graders—Consuelo\, Chuy\, Michael\, Lisa\, Angel\, and Taylor—who are disappointed when bad weather cancels their trick-or-treating plans. Stranded inside\, the friends find themselves reminiscing about past Halloweens and telling spooky stories to pass the time. As the night unfolds\, Consuelo\, the group’s nurturing leader\, shares the chilling tale of La Llorona\, a legendary figure from Mexican folklore who haunts rivers and lakes\, crying for the children she drowned. \nWhat begins as a playful evening quickly takes a darker turn as the line between reality and myth blurs. The friends find themselves questioning whether they are simply sharing ghost stories or if something more sinister is at play. As Consuelo’s storytelling grows more intense\, strange and eerie occurrences lead the group to wonder if La Llorona has truly come to visit them. \nThrough the suspense and scares\, the play delves into themes of friendship\, growing up\, and the fear of change. The friends face their uncertainties about the future and their worries about drifting apart as they prepare to enter high school. In the end\, the play offers a heartwarming message about the enduring power of friendship\, even in the face of fear and the unknown. \nThis suspenseful and emotionally charged play is perfect for middle schoolers and offers young performers the opportunity to explore rich characters and deliver a range of emotions\, from lighthearted fun to spine-tingling fear. The play provides a unique blend of cultural storytelling and the universal coming-of-age experience\, making it an engaging choice for both audiences and aspiring young actors. \nDirected By: Nohelia Cantu \nAuditions: September 6 & 7 \nBuy Tickets Now \nFootnote:\nPlease be advised that “The Tale of La Llorona as Told by Consuelo Chavez” contains elements of suspense and horror\, including discussions of ghost stories\, myths\, and themes related to death. These elements may be unsettling for younger or more sensitive viewers. 
URL:https://baytownlittletheater.org/event/tale-of-la-llorona/2024-10-27/
LOCATION:Baytown Little Theater\, 2 E Texas Ave\, Baytown\, TX\, 77520\, United States
END:VEVENT
END:VCALENDAR