BEGIN:VCALENDAR
VERSION:2.0
PRODID:-//Baytown Little Theater - ECPv6.15.20//NONSGML v1.0//EN
CALSCALE:GREGORIAN
METHOD:PUBLISH
X-WR-CALNAME:Baytown Little Theater
X-ORIGINAL-URL:https://baytownlittletheater.org
X-WR-CALDESC:Events for Baytown Little Theater
REFRESH-INTERVAL;VALUE=DURATION:PT1H
X-Robots-Tag:noindex
X-PUBLISHED-TTL:PT1H
BEGIN:VTIMEZONE
TZID:America/Chicago
BEGIN:DAYLIGHT
TZOFFSETFROM:-0600
TZOFFSETTO:-0500
TZNAME:CDT
DTSTART:20230312T080000
END:DAYLIGHT
BEGIN:STANDARD
TZOFFSETFROM:-0500
TZOFFSETTO:-0600
TZNAME:CST
DTSTART:20231105T070000
END:STANDARD
BEGIN:DAYLIGHT
TZOFFSETFROM:-0600
TZOFFSETTO:-0500
TZNAME:CDT
DTSTART:20240310T080000
END:DAYLIGHT
BEGIN:STANDARD
TZOFFSETFROM:-0500
TZOFFSETTO:-0600
TZNAME:CST
DTSTART:20241103T070000
END:STANDARD
BEGIN:DAYLIGHT
TZOFFSETFROM:-0600
TZOFFSETTO:-0500
TZNAME:CDT
DTSTART:20250309T080000
END:DAYLIGHT
BEGIN:STANDARD
TZOFFSETFROM:-0500
TZOFFSETTO:-0600
TZNAME:CST
DTSTART:20251102T070000
END:STANDARD
END:VTIMEZONE
BEGIN:VEVENT
DTSTART;TZID=America/Chicago:20241107T200000
DTEND;TZID=America/Chicago:20241107T223000
DTSTAMP:20260425T062224
CREATED:20240828T001054Z
LAST-MODIFIED:20240831T231930Z
UID:10000364-1731009600-1731018600@baytownlittletheater.org
SUMMARY:Steel Magnolias - Benefit Show
DESCRIPTION:Standing Strong Together in the Fight Against Cancer!\nBaytown Little Theater\, in collaboration with Galveston Lighthouse Productions\,  proudly presents *Steel Magnolias*. This special performance is not just a showcase of talent but a heartfelt initiative dedicated to fighting cancer. Join us as we bring this beloved play to life with the same passion and purpose that defines every BLT and GLP production. Together\, let’s make a difference through the power of theater. \n\nAll Performance Dates:\nNovember 7 & 8 – 8:00 pm\nNovember 9 – 2:30 pm & 8:00 pm\nNovember 10 – 2:30 pm & 8:00 pm \nSet in the small town of Chinquapin\, Louisiana\, *Steel Magnolias* by Robert Harling is a poignant and heartwarming play that centers around six Southern women who gather regularly at Truvy’s beauty salon. Truvy\, the bubbly owner\, employs the shy and mysterious Annelle\, who is new to town and harboring secrets about her troubled marriage. The women—Truvy\, Annelle\, the wealthy and lovable curmudgeon Ouiser\, the cheerful Clairee\, the nurturing M’Lynn\, and her daughter Shelby—form a close-knit group that navigates life’s joys and heartaches together. \nThe play unfolds through a series of conversations and events at the salon\, touching on themes of friendship\, resilience\, and the bittersweet realities of life. Shelby\, a young woman with diabetes\, becomes the focal point of the story as she deals with health challenges and her desire to live life on her own terms. Despite warnings from her mother\, M’Lynn\, about the risks of pregnancy\, Shelby decides to have a child\, which leads to complications that ultimately put her life in danger. \nAs the seasons change\, so do the lives of the women\, who continue to support each other through humor\, love\, and shared experiences. The play is filled with laughter and tears\, capturing the strength and vulnerability of these women as they confront loss\, illness\, and the complexities of life. \nSteel Magnolias is a testament to the power of female friendship\, where the strength of the characters shines through\, much like the delicate yet resilient magnolia flower\, enduring the harshness of life with grace. \nDirected By: Sam Gorashko \nAuditions:  Ended \nBuy Tickets Now \nPRODUCED IN PARTNERSHIP WITH GALVESTON LIGHTHOUSE PRODUCTIONS
URL:https://baytownlittletheater.org/event/steel-magnolias-benefit-show/2024-11-07/
LOCATION:Baytown Little Theater\, 2 E Texas Ave\, Baytown\, TX\, 77520\, United States
END:VEVENT
BEGIN:VEVENT
DTSTART;TZID=America/Chicago:20241108T200000
DTEND;TZID=America/Chicago:20241108T223000
DTSTAMP:20260425T062224
CREATED:20240828T001054Z
LAST-MODIFIED:20240831T231930Z
UID:10000365-1731096000-1731105000@baytownlittletheater.org
SUMMARY:Steel Magnolias - Benefit Show
DESCRIPTION:Standing Strong Together in the Fight Against Cancer!\nBaytown Little Theater\, in collaboration with Galveston Lighthouse Productions\,  proudly presents *Steel Magnolias*. This special performance is not just a showcase of talent but a heartfelt initiative dedicated to fighting cancer. Join us as we bring this beloved play to life with the same passion and purpose that defines every BLT and GLP production. Together\, let’s make a difference through the power of theater. \n\nAll Performance Dates:\nNovember 7 & 8 – 8:00 pm\nNovember 9 – 2:30 pm & 8:00 pm\nNovember 10 – 2:30 pm & 8:00 pm \nSet in the small town of Chinquapin\, Louisiana\, *Steel Magnolias* by Robert Harling is a poignant and heartwarming play that centers around six Southern women who gather regularly at Truvy’s beauty salon. Truvy\, the bubbly owner\, employs the shy and mysterious Annelle\, who is new to town and harboring secrets about her troubled marriage. The women—Truvy\, Annelle\, the wealthy and lovable curmudgeon Ouiser\, the cheerful Clairee\, the nurturing M’Lynn\, and her daughter Shelby—form a close-knit group that navigates life’s joys and heartaches together. \nThe play unfolds through a series of conversations and events at the salon\, touching on themes of friendship\, resilience\, and the bittersweet realities of life. Shelby\, a young woman with diabetes\, becomes the focal point of the story as she deals with health challenges and her desire to live life on her own terms. Despite warnings from her mother\, M’Lynn\, about the risks of pregnancy\, Shelby decides to have a child\, which leads to complications that ultimately put her life in danger. \nAs the seasons change\, so do the lives of the women\, who continue to support each other through humor\, love\, and shared experiences. The play is filled with laughter and tears\, capturing the strength and vulnerability of these women as they confront loss\, illness\, and the complexities of life. \nSteel Magnolias is a testament to the power of female friendship\, where the strength of the characters shines through\, much like the delicate yet resilient magnolia flower\, enduring the harshness of life with grace. \nDirected By: Sam Gorashko \nAuditions:  Ended \nBuy Tickets Now \nPRODUCED IN PARTNERSHIP WITH GALVESTON LIGHTHOUSE PRODUCTIONS
URL:https://baytownlittletheater.org/event/steel-magnolias-benefit-show/2024-11-08/
LOCATION:Baytown Little Theater\, 2 E Texas Ave\, Baytown\, TX\, 77520\, United States
END:VEVENT
BEGIN:VEVENT
DTSTART;TZID=America/Chicago:20241109T143000
DTEND;TZID=America/Chicago:20241109T170000
DTSTAMP:20260425T062224
CREATED:20240828T001054Z
LAST-MODIFIED:20240831T231930Z
UID:10000366-1731162600-1731171600@baytownlittletheater.org
SUMMARY:Steel Magnolias - Benefit Show
DESCRIPTION:Standing Strong Together in the Fight Against Cancer!\nBaytown Little Theater\, in collaboration with Galveston Lighthouse Productions\,  proudly presents *Steel Magnolias*. This special performance is not just a showcase of talent but a heartfelt initiative dedicated to fighting cancer. Join us as we bring this beloved play to life with the same passion and purpose that defines every BLT and GLP production. Together\, let’s make a difference through the power of theater. \n\nAll Performance Dates:\nNovember 7 & 8 – 8:00 pm\nNovember 9 – 2:30 pm & 8:00 pm\nNovember 10 – 2:30 pm & 8:00 pm \nSet in the small town of Chinquapin\, Louisiana\, *Steel Magnolias* by Robert Harling is a poignant and heartwarming play that centers around six Southern women who gather regularly at Truvy’s beauty salon. Truvy\, the bubbly owner\, employs the shy and mysterious Annelle\, who is new to town and harboring secrets about her troubled marriage. The women—Truvy\, Annelle\, the wealthy and lovable curmudgeon Ouiser\, the cheerful Clairee\, the nurturing M’Lynn\, and her daughter Shelby—form a close-knit group that navigates life’s joys and heartaches together. \nThe play unfolds through a series of conversations and events at the salon\, touching on themes of friendship\, resilience\, and the bittersweet realities of life. Shelby\, a young woman with diabetes\, becomes the focal point of the story as she deals with health challenges and her desire to live life on her own terms. Despite warnings from her mother\, M’Lynn\, about the risks of pregnancy\, Shelby decides to have a child\, which leads to complications that ultimately put her life in danger. \nAs the seasons change\, so do the lives of the women\, who continue to support each other through humor\, love\, and shared experiences. The play is filled with laughter and tears\, capturing the strength and vulnerability of these women as they confront loss\, illness\, and the complexities of life. \nSteel Magnolias is a testament to the power of female friendship\, where the strength of the characters shines through\, much like the delicate yet resilient magnolia flower\, enduring the harshness of life with grace. \nDirected By: Sam Gorashko \nAuditions:  Ended \nBuy Tickets Now \nPRODUCED IN PARTNERSHIP WITH GALVESTON LIGHTHOUSE PRODUCTIONS
URL:https://baytownlittletheater.org/event/steel-magnolias-benefit-show/2024-11-09/1/
LOCATION:Baytown Little Theater\, 2 E Texas Ave\, Baytown\, TX\, 77520\, United States
END:VEVENT
BEGIN:VEVENT
DTSTART;TZID=America/Chicago:20241109T200000
DTEND;TZID=America/Chicago:20241109T223000
DTSTAMP:20260425T062224
CREATED:20240828T001054Z
LAST-MODIFIED:20240831T231930Z
UID:10000367-1731182400-1731191400@baytownlittletheater.org
SUMMARY:Steel Magnolias - Benefit Show
DESCRIPTION:Standing Strong Together in the Fight Against Cancer!\nBaytown Little Theater\, in collaboration with Galveston Lighthouse Productions\,  proudly presents *Steel Magnolias*. This special performance is not just a showcase of talent but a heartfelt initiative dedicated to fighting cancer. Join us as we bring this beloved play to life with the same passion and purpose that defines every BLT and GLP production. Together\, let’s make a difference through the power of theater. \n\nAll Performance Dates:\nNovember 7 & 8 – 8:00 pm\nNovember 9 – 2:30 pm & 8:00 pm\nNovember 10 – 2:30 pm & 8:00 pm \nSet in the small town of Chinquapin\, Louisiana\, *Steel Magnolias* by Robert Harling is a poignant and heartwarming play that centers around six Southern women who gather regularly at Truvy’s beauty salon. Truvy\, the bubbly owner\, employs the shy and mysterious Annelle\, who is new to town and harboring secrets about her troubled marriage. The women—Truvy\, Annelle\, the wealthy and lovable curmudgeon Ouiser\, the cheerful Clairee\, the nurturing M’Lynn\, and her daughter Shelby—form a close-knit group that navigates life’s joys and heartaches together. \nThe play unfolds through a series of conversations and events at the salon\, touching on themes of friendship\, resilience\, and the bittersweet realities of life. Shelby\, a young woman with diabetes\, becomes the focal point of the story as she deals with health challenges and her desire to live life on her own terms. Despite warnings from her mother\, M’Lynn\, about the risks of pregnancy\, Shelby decides to have a child\, which leads to complications that ultimately put her life in danger. \nAs the seasons change\, so do the lives of the women\, who continue to support each other through humor\, love\, and shared experiences. The play is filled with laughter and tears\, capturing the strength and vulnerability of these women as they confront loss\, illness\, and the complexities of life. \nSteel Magnolias is a testament to the power of female friendship\, where the strength of the characters shines through\, much like the delicate yet resilient magnolia flower\, enduring the harshness of life with grace. \nDirected By: Sam Gorashko \nAuditions:  Ended \nBuy Tickets Now \nPRODUCED IN PARTNERSHIP WITH GALVESTON LIGHTHOUSE PRODUCTIONS
URL:https://baytownlittletheater.org/event/steel-magnolias-benefit-show/2024-11-09/2/
LOCATION:Baytown Little Theater\, 2 E Texas Ave\, Baytown\, TX\, 77520\, United States
END:VEVENT
BEGIN:VEVENT
DTSTART;TZID=America/Chicago:20241110T143000
DTEND;TZID=America/Chicago:20241110T170000
DTSTAMP:20260425T062224
CREATED:20240828T001054Z
LAST-MODIFIED:20240831T231930Z
UID:10000368-1731249000-1731258000@baytownlittletheater.org
SUMMARY:Steel Magnolias - Benefit Show
DESCRIPTION:Standing Strong Together in the Fight Against Cancer!\nBaytown Little Theater\, in collaboration with Galveston Lighthouse Productions\,  proudly presents *Steel Magnolias*. This special performance is not just a showcase of talent but a heartfelt initiative dedicated to fighting cancer. Join us as we bring this beloved play to life with the same passion and purpose that defines every BLT and GLP production. Together\, let’s make a difference through the power of theater. \n\nAll Performance Dates:\nNovember 7 & 8 – 8:00 pm\nNovember 9 – 2:30 pm & 8:00 pm\nNovember 10 – 2:30 pm & 8:00 pm \nSet in the small town of Chinquapin\, Louisiana\, *Steel Magnolias* by Robert Harling is a poignant and heartwarming play that centers around six Southern women who gather regularly at Truvy’s beauty salon. Truvy\, the bubbly owner\, employs the shy and mysterious Annelle\, who is new to town and harboring secrets about her troubled marriage. The women—Truvy\, Annelle\, the wealthy and lovable curmudgeon Ouiser\, the cheerful Clairee\, the nurturing M’Lynn\, and her daughter Shelby—form a close-knit group that navigates life’s joys and heartaches together. \nThe play unfolds through a series of conversations and events at the salon\, touching on themes of friendship\, resilience\, and the bittersweet realities of life. Shelby\, a young woman with diabetes\, becomes the focal point of the story as she deals with health challenges and her desire to live life on her own terms. Despite warnings from her mother\, M’Lynn\, about the risks of pregnancy\, Shelby decides to have a child\, which leads to complications that ultimately put her life in danger. \nAs the seasons change\, so do the lives of the women\, who continue to support each other through humor\, love\, and shared experiences. The play is filled with laughter and tears\, capturing the strength and vulnerability of these women as they confront loss\, illness\, and the complexities of life. \nSteel Magnolias is a testament to the power of female friendship\, where the strength of the characters shines through\, much like the delicate yet resilient magnolia flower\, enduring the harshness of life with grace. \nDirected By: Sam Gorashko \nAuditions:  Ended \nBuy Tickets Now \nPRODUCED IN PARTNERSHIP WITH GALVESTON LIGHTHOUSE PRODUCTIONS
URL:https://baytownlittletheater.org/event/steel-magnolias-benefit-show/2024-11-10/1/
LOCATION:Baytown Little Theater\, 2 E Texas Ave\, Baytown\, TX\, 77520\, United States
END:VEVENT
BEGIN:VEVENT
DTSTART;TZID=America/Chicago:20241110T200000
DTEND;TZID=America/Chicago:20241110T223000
DTSTAMP:20260425T062224
CREATED:20240828T001054Z
LAST-MODIFIED:20240831T231930Z
UID:10000369-1731268800-1731277800@baytownlittletheater.org
SUMMARY:Steel Magnolias - Benefit Show
DESCRIPTION:Standing Strong Together in the Fight Against Cancer!\nBaytown Little Theater\, in collaboration with Galveston Lighthouse Productions\,  proudly presents *Steel Magnolias*. This special performance is not just a showcase of talent but a heartfelt initiative dedicated to fighting cancer. Join us as we bring this beloved play to life with the same passion and purpose that defines every BLT and GLP production. Together\, let’s make a difference through the power of theater. \n\nAll Performance Dates:\nNovember 7 & 8 – 8:00 pm\nNovember 9 – 2:30 pm & 8:00 pm\nNovember 10 – 2:30 pm & 8:00 pm \nSet in the small town of Chinquapin\, Louisiana\, *Steel Magnolias* by Robert Harling is a poignant and heartwarming play that centers around six Southern women who gather regularly at Truvy’s beauty salon. Truvy\, the bubbly owner\, employs the shy and mysterious Annelle\, who is new to town and harboring secrets about her troubled marriage. The women—Truvy\, Annelle\, the wealthy and lovable curmudgeon Ouiser\, the cheerful Clairee\, the nurturing M’Lynn\, and her daughter Shelby—form a close-knit group that navigates life’s joys and heartaches together. \nThe play unfolds through a series of conversations and events at the salon\, touching on themes of friendship\, resilience\, and the bittersweet realities of life. Shelby\, a young woman with diabetes\, becomes the focal point of the story as she deals with health challenges and her desire to live life on her own terms. Despite warnings from her mother\, M’Lynn\, about the risks of pregnancy\, Shelby decides to have a child\, which leads to complications that ultimately put her life in danger. \nAs the seasons change\, so do the lives of the women\, who continue to support each other through humor\, love\, and shared experiences. The play is filled with laughter and tears\, capturing the strength and vulnerability of these women as they confront loss\, illness\, and the complexities of life. \nSteel Magnolias is a testament to the power of female friendship\, where the strength of the characters shines through\, much like the delicate yet resilient magnolia flower\, enduring the harshness of life with grace. \nDirected By: Sam Gorashko \nAuditions:  Ended \nBuy Tickets Now \nPRODUCED IN PARTNERSHIP WITH GALVESTON LIGHTHOUSE PRODUCTIONS
URL:https://baytownlittletheater.org/event/steel-magnolias-benefit-show/2024-11-10/2/
LOCATION:Baytown Little Theater\, 2 E Texas Ave\, Baytown\, TX\, 77520\, United States
END:VEVENT
END:VCALENDAR