BEGIN:VCALENDAR
VERSION:2.0
PRODID:-//Baytown Little Theater - ECPv6.15.20//NONSGML v1.0//EN
CALSCALE:GREGORIAN
METHOD:PUBLISH
X-WR-CALNAME:Baytown Little Theater
X-ORIGINAL-URL:https://baytownlittletheater.org
X-WR-CALDESC:Events for Baytown Little Theater
REFRESH-INTERVAL;VALUE=DURATION:PT1H
X-Robots-Tag:noindex
X-PUBLISHED-TTL:PT1H
BEGIN:VTIMEZONE
TZID:America/Chicago
BEGIN:DAYLIGHT
TZOFFSETFROM:-0600
TZOFFSETTO:-0500
TZNAME:CDT
DTSTART:20240310T080000
END:DAYLIGHT
BEGIN:STANDARD
TZOFFSETFROM:-0500
TZOFFSETTO:-0600
TZNAME:CST
DTSTART:20241103T070000
END:STANDARD
BEGIN:DAYLIGHT
TZOFFSETFROM:-0600
TZOFFSETTO:-0500
TZNAME:CDT
DTSTART:20250309T080000
END:DAYLIGHT
BEGIN:STANDARD
TZOFFSETFROM:-0500
TZOFFSETTO:-0600
TZNAME:CST
DTSTART:20251102T070000
END:STANDARD
BEGIN:DAYLIGHT
TZOFFSETFROM:-0600
TZOFFSETTO:-0500
TZNAME:CDT
DTSTART:20260308T080000
END:DAYLIGHT
BEGIN:STANDARD
TZOFFSETFROM:-0500
TZOFFSETTO:-0600
TZNAME:CST
DTSTART:20261101T070000
END:STANDARD
END:VTIMEZONE
BEGIN:VEVENT
DTSTART;VALUE=DATE:20250516
DTEND;VALUE=DATE:20250520
DTSTAMP:20260424T193153
CREATED:20250516T195453Z
LAST-MODIFIED:20250516T202905Z
UID:10000404-1747353600-1747699199@baytownlittletheater.org
SUMMARY:Mustang Martha Auditions for Script Reading
DESCRIPTION:Do you remember the “Purple Planter” over at Baytown Motors in 1994? It was a Mustang painted hot-pink/purple and planted with flowers all over to help promote the auto body shop that’s now Frank’s Collision on Main St. Only after people complained\, the city said it was a violation of the Junk Car Ordinance. Martha Barnett\, who owned Baytown Motors at the time and was one of the only female auto body shop owners in the country\, fought to keep the Mustang. And now\, with the blessing of Martha and others involved\, we’re making a movie about it! \nMUSTANG MARTHA is a fictionalized “inspired by true events” type film\, and we are partnering with Jenny Waldo to perform a staged reading of the script here at Baytown Little Theater on Saturday\, June 28th at 7pm. She is excited to connect with our historic theater and our members by casting all roles from our Baytown Little Theater community for this event. While we cannot guarantee that role in the eventual movie\, she wants to showcase the local talent as we bring awareness to this project. If you’re available\, please send us your videotaped audition. \nWe are telling a Baytown story\, and we want Baytown involved. Last November\, we hosted a community awareness event at the Baytown Historical Museum when it was still called Martha’s Mustang. You can read more about it in the Baytown Sun article: https://baytownsun.com/local/martha-s-mustang-filmmaker-seeks-community-input-on-project/article_a8c7c448-a1f9-11ef-a275-1f627e72340e.html. Jenny and her team are Houston-based filmmakers with over 25 years of experience and look forward to working with you to highlight Baytown and this feel-good\, fun story. \nBelow is the scene to read for the recorded audition. Female actors read for Martha. Male actors read for Bobby. She does have a couple of male kid roles\, but they can simply read for Bobby too. \nPlease record your audition and email me a private link or WeTransfer (or other transfer platform) to purpleplanterproductions@gmail.com. \nAlso below are the Character Breakdowns that we are casting. There are about 20 good speaking roles and over 30 one-scene/one-liners! \nYou WILL NOT NEED to be off-book for the audition or for the staged reading. You will be walking around with the script in hand for simple entrances and exits. \nWe will have a rehearsal sometime in the week or two before the 28th. \nWe will be complying with the Baytown Little Theater protocol\, and all roles are volunteer-based. \nMore information as we move closer to the event. \nPLEASE SEND YOUR AUDITIONS to purpleplanterproductions@gmail.com. You can also email any questions you have. \nwww.jennywaldo.com \nFacebook and Instagram: MustangMarthaMovie \nCharacter Breakdowns \nAudition Side
URL:https://baytownlittletheater.org/event/mustang-martha-auditions-for-script-reading/
LOCATION:TX
END:VEVENT
BEGIN:VEVENT
DTSTART;TZID=America/Chicago:20250516T200000
DTEND;TZID=America/Chicago:20250516T223000
DTSTAMP:20260424T193153
CREATED:20240823T150719Z
LAST-MODIFIED:20250325T011227Z
UID:10000329-1747425600-1747434600@baytownlittletheater.org
SUMMARY:Radium Girls
DESCRIPTION:  \nAll Performance Dates:\nMay 16 & 17 – 8:00 pm\nMay 18 – 2:30 pm\nMay 23 & 24 – 8:00 pm\nMay 25 – 2:30 pm\nMay 30 & 31 – 8:00 pm\nJune 1 – 2:30 pm \n\n\n\n\n\nBASED ON THE TRUE STORY OF THE DIAL PAINTERS WHO MADE LABOR HISTORY \nIn 1926\, radium was a miracle cure\, Madame Curie an international celebrity\, and luminous watches the latest rage—until the girls who painted them began to fall ill with a mysterious disease. \n\n\n\n\n\n\n\n\n\n\n\nInspired by a true story\, Radium Girls traces the efforts of Grace Fryer\, a dial painter\, as she fights for her day in court. Her chief adversary is her former employer\, Arthur Roeder\, an idealistic man who cannot bring himself to believe that the same element that shrinks tumors could have anything to do with the terrifying rash of illnesses among his employees. \nAs the case goes on\, however\, Grace finds herself battling not just with the U.S. Radium Corporation\, but with her own family and friends\, who fear that her campaign for justice will backfire. Written with warmth and humor\, Radium Girls is a fast-moving\, highly theatrical ensemble piece for 9 to 10 actors\, who play more than 30 parts—friends\, co-workers\, lovers\, relatives\, attorneys\, scientists\, consumer advocates\, and myriad interested bystanders. \nCalled a “powerful” and “engrossing” drama by critics\, Radium Girls offers a wry\, unflinching look at the peculiarly American obsessions with health\, wealth\, and the commercialization of science. \n\n\n\n\n\n\nDirected By: Joshua Figueroa \nBuy Tickets Now
URL:https://baytownlittletheater.org/event/radium-girls/2025-05-16/
LOCATION:Baytown Little Theater\, 2 E Texas Ave\, Baytown\, TX\, 77520\, United States
END:VEVENT
BEGIN:VEVENT
DTSTART;TZID=America/Chicago:20250517T200000
DTEND;TZID=America/Chicago:20250517T223000
DTSTAMP:20260424T193153
CREATED:20240823T150719Z
LAST-MODIFIED:20250325T011227Z
UID:10000330-1747512000-1747521000@baytownlittletheater.org
SUMMARY:Radium Girls
DESCRIPTION:  \nAll Performance Dates:\nMay 16 & 17 – 8:00 pm\nMay 18 – 2:30 pm\nMay 23 & 24 – 8:00 pm\nMay 25 – 2:30 pm\nMay 30 & 31 – 8:00 pm\nJune 1 – 2:30 pm \n\n\n\n\n\nBASED ON THE TRUE STORY OF THE DIAL PAINTERS WHO MADE LABOR HISTORY \nIn 1926\, radium was a miracle cure\, Madame Curie an international celebrity\, and luminous watches the latest rage—until the girls who painted them began to fall ill with a mysterious disease. \n\n\n\n\n\n\n\n\n\n\n\nInspired by a true story\, Radium Girls traces the efforts of Grace Fryer\, a dial painter\, as she fights for her day in court. Her chief adversary is her former employer\, Arthur Roeder\, an idealistic man who cannot bring himself to believe that the same element that shrinks tumors could have anything to do with the terrifying rash of illnesses among his employees. \nAs the case goes on\, however\, Grace finds herself battling not just with the U.S. Radium Corporation\, but with her own family and friends\, who fear that her campaign for justice will backfire. Written with warmth and humor\, Radium Girls is a fast-moving\, highly theatrical ensemble piece for 9 to 10 actors\, who play more than 30 parts—friends\, co-workers\, lovers\, relatives\, attorneys\, scientists\, consumer advocates\, and myriad interested bystanders. \nCalled a “powerful” and “engrossing” drama by critics\, Radium Girls offers a wry\, unflinching look at the peculiarly American obsessions with health\, wealth\, and the commercialization of science. \n\n\n\n\n\n\nDirected By: Joshua Figueroa \nBuy Tickets Now
URL:https://baytownlittletheater.org/event/radium-girls/2025-05-17/
LOCATION:Baytown Little Theater\, 2 E Texas Ave\, Baytown\, TX\, 77520\, United States
END:VEVENT
BEGIN:VEVENT
DTSTART;TZID=America/Chicago:20250518T080000
DTEND;TZID=America/Chicago:20250518T170000
DTSTAMP:20260424T193153
CREATED:20240823T150719Z
LAST-MODIFIED:20250325T011227Z
UID:10000331-1747555200-1747587600@baytownlittletheater.org
SUMMARY:Radium Girls
DESCRIPTION:  \nAll Performance Dates:\nMay 16 & 17 – 8:00 pm\nMay 18 – 2:30 pm\nMay 23 & 24 – 8:00 pm\nMay 25 – 2:30 pm\nMay 30 & 31 – 8:00 pm\nJune 1 – 2:30 pm \n\n\n\n\n\nBASED ON THE TRUE STORY OF THE DIAL PAINTERS WHO MADE LABOR HISTORY \nIn 1926\, radium was a miracle cure\, Madame Curie an international celebrity\, and luminous watches the latest rage—until the girls who painted them began to fall ill with a mysterious disease. \n\n\n\n\n\n\n\n\n\n\n\nInspired by a true story\, Radium Girls traces the efforts of Grace Fryer\, a dial painter\, as she fights for her day in court. Her chief adversary is her former employer\, Arthur Roeder\, an idealistic man who cannot bring himself to believe that the same element that shrinks tumors could have anything to do with the terrifying rash of illnesses among his employees. \nAs the case goes on\, however\, Grace finds herself battling not just with the U.S. Radium Corporation\, but with her own family and friends\, who fear that her campaign for justice will backfire. Written with warmth and humor\, Radium Girls is a fast-moving\, highly theatrical ensemble piece for 9 to 10 actors\, who play more than 30 parts—friends\, co-workers\, lovers\, relatives\, attorneys\, scientists\, consumer advocates\, and myriad interested bystanders. \nCalled a “powerful” and “engrossing” drama by critics\, Radium Girls offers a wry\, unflinching look at the peculiarly American obsessions with health\, wealth\, and the commercialization of science. \n\n\n\n\n\n\nDirected By: Joshua Figueroa \nBuy Tickets Now
URL:https://baytownlittletheater.org/event/radium-girls/2025-05-18/
LOCATION:Baytown Little Theater\, 2 E Texas Ave\, Baytown\, TX\, 77520\, United States
END:VEVENT
BEGIN:VEVENT
DTSTART;TZID=America/Chicago:20250523T200000
DTEND;TZID=America/Chicago:20250523T223000
DTSTAMP:20260424T193153
CREATED:20240823T150719Z
LAST-MODIFIED:20250325T011227Z
UID:10000332-1748030400-1748039400@baytownlittletheater.org
SUMMARY:Radium Girls
DESCRIPTION:  \nAll Performance Dates:\nMay 16 & 17 – 8:00 pm\nMay 18 – 2:30 pm\nMay 23 & 24 – 8:00 pm\nMay 25 – 2:30 pm\nMay 30 & 31 – 8:00 pm\nJune 1 – 2:30 pm \n\n\n\n\n\nBASED ON THE TRUE STORY OF THE DIAL PAINTERS WHO MADE LABOR HISTORY \nIn 1926\, radium was a miracle cure\, Madame Curie an international celebrity\, and luminous watches the latest rage—until the girls who painted them began to fall ill with a mysterious disease. \n\n\n\n\n\n\n\n\n\n\n\nInspired by a true story\, Radium Girls traces the efforts of Grace Fryer\, a dial painter\, as she fights for her day in court. Her chief adversary is her former employer\, Arthur Roeder\, an idealistic man who cannot bring himself to believe that the same element that shrinks tumors could have anything to do with the terrifying rash of illnesses among his employees. \nAs the case goes on\, however\, Grace finds herself battling not just with the U.S. Radium Corporation\, but with her own family and friends\, who fear that her campaign for justice will backfire. Written with warmth and humor\, Radium Girls is a fast-moving\, highly theatrical ensemble piece for 9 to 10 actors\, who play more than 30 parts—friends\, co-workers\, lovers\, relatives\, attorneys\, scientists\, consumer advocates\, and myriad interested bystanders. \nCalled a “powerful” and “engrossing” drama by critics\, Radium Girls offers a wry\, unflinching look at the peculiarly American obsessions with health\, wealth\, and the commercialization of science. \n\n\n\n\n\n\nDirected By: Joshua Figueroa \nBuy Tickets Now
URL:https://baytownlittletheater.org/event/radium-girls/2025-05-23/
LOCATION:Baytown Little Theater\, 2 E Texas Ave\, Baytown\, TX\, 77520\, United States
END:VEVENT
BEGIN:VEVENT
DTSTART;TZID=America/Chicago:20250524T200000
DTEND;TZID=America/Chicago:20250524T223000
DTSTAMP:20260424T193153
CREATED:20240823T150719Z
LAST-MODIFIED:20250325T011227Z
UID:10000333-1748116800-1748125800@baytownlittletheater.org
SUMMARY:Radium Girls
DESCRIPTION:  \nAll Performance Dates:\nMay 16 & 17 – 8:00 pm\nMay 18 – 2:30 pm\nMay 23 & 24 – 8:00 pm\nMay 25 – 2:30 pm\nMay 30 & 31 – 8:00 pm\nJune 1 – 2:30 pm \n\n\n\n\n\nBASED ON THE TRUE STORY OF THE DIAL PAINTERS WHO MADE LABOR HISTORY \nIn 1926\, radium was a miracle cure\, Madame Curie an international celebrity\, and luminous watches the latest rage—until the girls who painted them began to fall ill with a mysterious disease. \n\n\n\n\n\n\n\n\n\n\n\nInspired by a true story\, Radium Girls traces the efforts of Grace Fryer\, a dial painter\, as she fights for her day in court. Her chief adversary is her former employer\, Arthur Roeder\, an idealistic man who cannot bring himself to believe that the same element that shrinks tumors could have anything to do with the terrifying rash of illnesses among his employees. \nAs the case goes on\, however\, Grace finds herself battling not just with the U.S. Radium Corporation\, but with her own family and friends\, who fear that her campaign for justice will backfire. Written with warmth and humor\, Radium Girls is a fast-moving\, highly theatrical ensemble piece for 9 to 10 actors\, who play more than 30 parts—friends\, co-workers\, lovers\, relatives\, attorneys\, scientists\, consumer advocates\, and myriad interested bystanders. \nCalled a “powerful” and “engrossing” drama by critics\, Radium Girls offers a wry\, unflinching look at the peculiarly American obsessions with health\, wealth\, and the commercialization of science. \n\n\n\n\n\n\nDirected By: Joshua Figueroa \nBuy Tickets Now
URL:https://baytownlittletheater.org/event/radium-girls/2025-05-24/
LOCATION:Baytown Little Theater\, 2 E Texas Ave\, Baytown\, TX\, 77520\, United States
END:VEVENT
BEGIN:VEVENT
DTSTART;TZID=America/Chicago:20250525T143000
DTEND;TZID=America/Chicago:20250525T170000
DTSTAMP:20260424T193153
CREATED:20240823T150719Z
LAST-MODIFIED:20250325T011227Z
UID:10000334-1748183400-1748192400@baytownlittletheater.org
SUMMARY:Radium Girls
DESCRIPTION:  \nAll Performance Dates:\nMay 16 & 17 – 8:00 pm\nMay 18 – 2:30 pm\nMay 23 & 24 – 8:00 pm\nMay 25 – 2:30 pm\nMay 30 & 31 – 8:00 pm\nJune 1 – 2:30 pm \n\n\n\n\n\nBASED ON THE TRUE STORY OF THE DIAL PAINTERS WHO MADE LABOR HISTORY \nIn 1926\, radium was a miracle cure\, Madame Curie an international celebrity\, and luminous watches the latest rage—until the girls who painted them began to fall ill with a mysterious disease. \n\n\n\n\n\n\n\n\n\n\n\nInspired by a true story\, Radium Girls traces the efforts of Grace Fryer\, a dial painter\, as she fights for her day in court. Her chief adversary is her former employer\, Arthur Roeder\, an idealistic man who cannot bring himself to believe that the same element that shrinks tumors could have anything to do with the terrifying rash of illnesses among his employees. \nAs the case goes on\, however\, Grace finds herself battling not just with the U.S. Radium Corporation\, but with her own family and friends\, who fear that her campaign for justice will backfire. Written with warmth and humor\, Radium Girls is a fast-moving\, highly theatrical ensemble piece for 9 to 10 actors\, who play more than 30 parts—friends\, co-workers\, lovers\, relatives\, attorneys\, scientists\, consumer advocates\, and myriad interested bystanders. \nCalled a “powerful” and “engrossing” drama by critics\, Radium Girls offers a wry\, unflinching look at the peculiarly American obsessions with health\, wealth\, and the commercialization of science. \n\n\n\n\n\n\nDirected By: Joshua Figueroa \nBuy Tickets Now
URL:https://baytownlittletheater.org/event/radium-girls/2025-05-25/
LOCATION:Baytown Little Theater\, 2 E Texas Ave\, Baytown\, TX\, 77520\, United States
END:VEVENT
BEGIN:VEVENT
DTSTART;TZID=America/Chicago:20250530T200000
DTEND;TZID=America/Chicago:20250530T223000
DTSTAMP:20260424T193153
CREATED:20240823T150719Z
LAST-MODIFIED:20250325T011227Z
UID:10000335-1748635200-1748644200@baytownlittletheater.org
SUMMARY:Radium Girls
DESCRIPTION:  \nAll Performance Dates:\nMay 16 & 17 – 8:00 pm\nMay 18 – 2:30 pm\nMay 23 & 24 – 8:00 pm\nMay 25 – 2:30 pm\nMay 30 & 31 – 8:00 pm\nJune 1 – 2:30 pm \n\n\n\n\n\nBASED ON THE TRUE STORY OF THE DIAL PAINTERS WHO MADE LABOR HISTORY \nIn 1926\, radium was a miracle cure\, Madame Curie an international celebrity\, and luminous watches the latest rage—until the girls who painted them began to fall ill with a mysterious disease. \n\n\n\n\n\n\n\n\n\n\n\nInspired by a true story\, Radium Girls traces the efforts of Grace Fryer\, a dial painter\, as she fights for her day in court. Her chief adversary is her former employer\, Arthur Roeder\, an idealistic man who cannot bring himself to believe that the same element that shrinks tumors could have anything to do with the terrifying rash of illnesses among his employees. \nAs the case goes on\, however\, Grace finds herself battling not just with the U.S. Radium Corporation\, but with her own family and friends\, who fear that her campaign for justice will backfire. Written with warmth and humor\, Radium Girls is a fast-moving\, highly theatrical ensemble piece for 9 to 10 actors\, who play more than 30 parts—friends\, co-workers\, lovers\, relatives\, attorneys\, scientists\, consumer advocates\, and myriad interested bystanders. \nCalled a “powerful” and “engrossing” drama by critics\, Radium Girls offers a wry\, unflinching look at the peculiarly American obsessions with health\, wealth\, and the commercialization of science. \n\n\n\n\n\n\nDirected By: Joshua Figueroa \nBuy Tickets Now
URL:https://baytownlittletheater.org/event/radium-girls/2025-05-30/
LOCATION:Baytown Little Theater\, 2 E Texas Ave\, Baytown\, TX\, 77520\, United States
END:VEVENT
BEGIN:VEVENT
DTSTART;TZID=America/Chicago:20250531T200000
DTEND;TZID=America/Chicago:20250531T223000
DTSTAMP:20260424T193153
CREATED:20240823T150719Z
LAST-MODIFIED:20250325T011227Z
UID:10000336-1748721600-1748730600@baytownlittletheater.org
SUMMARY:Radium Girls
DESCRIPTION:  \nAll Performance Dates:\nMay 16 & 17 – 8:00 pm\nMay 18 – 2:30 pm\nMay 23 & 24 – 8:00 pm\nMay 25 – 2:30 pm\nMay 30 & 31 – 8:00 pm\nJune 1 – 2:30 pm \n\n\n\n\n\nBASED ON THE TRUE STORY OF THE DIAL PAINTERS WHO MADE LABOR HISTORY \nIn 1926\, radium was a miracle cure\, Madame Curie an international celebrity\, and luminous watches the latest rage—until the girls who painted them began to fall ill with a mysterious disease. \n\n\n\n\n\n\n\n\n\n\n\nInspired by a true story\, Radium Girls traces the efforts of Grace Fryer\, a dial painter\, as she fights for her day in court. Her chief adversary is her former employer\, Arthur Roeder\, an idealistic man who cannot bring himself to believe that the same element that shrinks tumors could have anything to do with the terrifying rash of illnesses among his employees. \nAs the case goes on\, however\, Grace finds herself battling not just with the U.S. Radium Corporation\, but with her own family and friends\, who fear that her campaign for justice will backfire. Written with warmth and humor\, Radium Girls is a fast-moving\, highly theatrical ensemble piece for 9 to 10 actors\, who play more than 30 parts—friends\, co-workers\, lovers\, relatives\, attorneys\, scientists\, consumer advocates\, and myriad interested bystanders. \nCalled a “powerful” and “engrossing” drama by critics\, Radium Girls offers a wry\, unflinching look at the peculiarly American obsessions with health\, wealth\, and the commercialization of science. \n\n\n\n\n\n\nDirected By: Joshua Figueroa \nBuy Tickets Now
URL:https://baytownlittletheater.org/event/radium-girls/2025-05-31/
LOCATION:Baytown Little Theater\, 2 E Texas Ave\, Baytown\, TX\, 77520\, United States
END:VEVENT
END:VCALENDAR