BEGIN:VCALENDAR
VERSION:2.0
PRODID:-//Baytown Little Theater - ECPv6.15.20//NONSGML v1.0//EN
CALSCALE:GREGORIAN
METHOD:PUBLISH
X-WR-CALNAME:Baytown Little Theater
X-ORIGINAL-URL:https://baytownlittletheater.org
X-WR-CALDESC:Events for Baytown Little Theater
REFRESH-INTERVAL;VALUE=DURATION:PT1H
X-Robots-Tag:noindex
X-PUBLISHED-TTL:PT1H
BEGIN:VTIMEZONE
TZID:America/Chicago
BEGIN:DAYLIGHT
TZOFFSETFROM:-0600
TZOFFSETTO:-0500
TZNAME:CDT
DTSTART:20240310T080000
END:DAYLIGHT
BEGIN:STANDARD
TZOFFSETFROM:-0500
TZOFFSETTO:-0600
TZNAME:CST
DTSTART:20241103T070000
END:STANDARD
BEGIN:DAYLIGHT
TZOFFSETFROM:-0600
TZOFFSETTO:-0500
TZNAME:CDT
DTSTART:20250309T080000
END:DAYLIGHT
BEGIN:STANDARD
TZOFFSETFROM:-0500
TZOFFSETTO:-0600
TZNAME:CST
DTSTART:20251102T070000
END:STANDARD
BEGIN:DAYLIGHT
TZOFFSETFROM:-0600
TZOFFSETTO:-0500
TZNAME:CDT
DTSTART:20260308T080000
END:DAYLIGHT
BEGIN:STANDARD
TZOFFSETFROM:-0500
TZOFFSETTO:-0600
TZNAME:CST
DTSTART:20261101T070000
END:STANDARD
END:VTIMEZONE
BEGIN:VEVENT
DTSTART;TZID=America/Chicago:20250725T200000
DTEND;TZID=America/Chicago:20250725T223000
DTSTAMP:20260424T154622
CREATED:20240823T202919Z
LAST-MODIFIED:20250722T130609Z
UID:10000338-1753473600-1753482600@baytownlittletheater.org
SUMMARY:Matilda The Musical
DESCRIPTION:All Performance Dates:\nJuly 25 & 26 – 8:00 pm\nJuly 27 – 2:30 pm\nAugust 1 & 2 – 8:00 pm\nAugust 3 – 2:30 pm \n\n\n\n\n\nBased on Roald Dahl’s classic children’s book of the same name\, Matilda follows Matilda Wormwood\, a bright little girl who immerses herself in books. \nMatilda is discarded and belittled by her dimwitted parents—her father insists on calling her a boy and harps on her “stupidity” for preferring reading to watching the telly—and her hostile headmistress\, the outrageous and wicked Miss Trunchbull. Reclusive\, but with an ever-growing imagination and sharp mind\, and with a caring protector in her teacher Miss Honey\, Matilda dreams of a better life\, daring to take a stand against unjust forces and to grasp her destiny in her own\, tiny hands. \n\n\n\n\n\nDirected By: Noah Dobbs & Chelsea Denard \nALL PERFORMANCES AT LEE COLLEGE PAC \nBUY TICKETS NOW \nMatilda the Musical Playbill
URL:https://baytownlittletheater.org/event/matilda-the-musical/2025-07-25/
LOCATION:LEE COLLEGE PERFORMING ARTS CENTER\, 805 West Texas Avenue\, Baytown\, TX\, 77520\, United States
END:VEVENT
BEGIN:VEVENT
DTSTART;TZID=America/Chicago:20250726T200000
DTEND;TZID=America/Chicago:20250726T223000
DTSTAMP:20260424T154622
CREATED:20240823T202919Z
LAST-MODIFIED:20250722T130609Z
UID:10000339-1753560000-1753569000@baytownlittletheater.org
SUMMARY:Matilda The Musical
DESCRIPTION:All Performance Dates:\nJuly 25 & 26 – 8:00 pm\nJuly 27 – 2:30 pm\nAugust 1 & 2 – 8:00 pm\nAugust 3 – 2:30 pm \n\n\n\n\n\nBased on Roald Dahl’s classic children’s book of the same name\, Matilda follows Matilda Wormwood\, a bright little girl who immerses herself in books. \nMatilda is discarded and belittled by her dimwitted parents—her father insists on calling her a boy and harps on her “stupidity” for preferring reading to watching the telly—and her hostile headmistress\, the outrageous and wicked Miss Trunchbull. Reclusive\, but with an ever-growing imagination and sharp mind\, and with a caring protector in her teacher Miss Honey\, Matilda dreams of a better life\, daring to take a stand against unjust forces and to grasp her destiny in her own\, tiny hands. \n\n\n\n\n\nDirected By: Noah Dobbs & Chelsea Denard \nALL PERFORMANCES AT LEE COLLEGE PAC \nBUY TICKETS NOW \nMatilda the Musical Playbill
URL:https://baytownlittletheater.org/event/matilda-the-musical/2025-07-26/
LOCATION:LEE COLLEGE PERFORMING ARTS CENTER\, 805 West Texas Avenue\, Baytown\, TX\, 77520\, United States
END:VEVENT
BEGIN:VEVENT
DTSTART;TZID=America/Chicago:20250727T143000
DTEND;TZID=America/Chicago:20250727T170000
DTSTAMP:20260424T154622
CREATED:20240823T202919Z
LAST-MODIFIED:20250722T130609Z
UID:10000340-1753626600-1753635600@baytownlittletheater.org
SUMMARY:Matilda The Musical
DESCRIPTION:All Performance Dates:\nJuly 25 & 26 – 8:00 pm\nJuly 27 – 2:30 pm\nAugust 1 & 2 – 8:00 pm\nAugust 3 – 2:30 pm \n\n\n\n\n\nBased on Roald Dahl’s classic children’s book of the same name\, Matilda follows Matilda Wormwood\, a bright little girl who immerses herself in books. \nMatilda is discarded and belittled by her dimwitted parents—her father insists on calling her a boy and harps on her “stupidity” for preferring reading to watching the telly—and her hostile headmistress\, the outrageous and wicked Miss Trunchbull. Reclusive\, but with an ever-growing imagination and sharp mind\, and with a caring protector in her teacher Miss Honey\, Matilda dreams of a better life\, daring to take a stand against unjust forces and to grasp her destiny in her own\, tiny hands. \n\n\n\n\n\nDirected By: Noah Dobbs & Chelsea Denard \nALL PERFORMANCES AT LEE COLLEGE PAC \nBUY TICKETS NOW \nMatilda the Musical Playbill
URL:https://baytownlittletheater.org/event/matilda-the-musical/2025-07-27/
LOCATION:LEE COLLEGE PERFORMING ARTS CENTER\, 805 West Texas Avenue\, Baytown\, TX\, 77520\, United States
END:VEVENT
END:VCALENDAR