BEGIN:VCALENDAR
VERSION:2.0
PRODID:-//Baytown Little Theater - ECPv6.15.20//NONSGML v1.0//EN
CALSCALE:GREGORIAN
METHOD:PUBLISH
X-ORIGINAL-URL:https://baytownlittletheater.org
X-WR-CALDESC:Events for Baytown Little Theater
REFRESH-INTERVAL;VALUE=DURATION:PT1H
X-Robots-Tag:noindex
X-PUBLISHED-TTL:PT1H
BEGIN:VTIMEZONE
TZID:America/Chicago
BEGIN:DAYLIGHT
TZOFFSETFROM:-0600
TZOFFSETTO:-0500
TZNAME:CDT
DTSTART:20240310T080000
END:DAYLIGHT
BEGIN:STANDARD
TZOFFSETFROM:-0500
TZOFFSETTO:-0600
TZNAME:CST
DTSTART:20241103T070000
END:STANDARD
BEGIN:DAYLIGHT
TZOFFSETFROM:-0600
TZOFFSETTO:-0500
TZNAME:CDT
DTSTART:20250309T080000
END:DAYLIGHT
BEGIN:STANDARD
TZOFFSETFROM:-0500
TZOFFSETTO:-0600
TZNAME:CST
DTSTART:20251102T070000
END:STANDARD
BEGIN:DAYLIGHT
TZOFFSETFROM:-0600
TZOFFSETTO:-0500
TZNAME:CDT
DTSTART:20260308T080000
END:DAYLIGHT
BEGIN:STANDARD
TZOFFSETFROM:-0500
TZOFFSETTO:-0600
TZNAME:CST
DTSTART:20261101T070000
END:STANDARD
END:VTIMEZONE
BEGIN:VEVENT
DTSTART;TZID=America/Chicago:20250801T200000
DTEND;TZID=America/Chicago:20250801T223000
DTSTAMP:20260424T141242
CREATED:20240823T202919Z
LAST-MODIFIED:20250722T130609Z
UID:10000341-1754078400-1754087400@baytownlittletheater.org
SUMMARY:Matilda The Musical
DESCRIPTION:All Performance Dates:\nJuly 25 & 26 – 8:00 pm\nJuly 27 – 2:30 pm\nAugust 1 & 2 – 8:00 pm\nAugust 3 – 2:30 pm \n\n\n\n\n\nBased on Roald Dahl’s classic children’s book of the same name\, Matilda follows Matilda Wormwood\, a bright little girl who immerses herself in books. \nMatilda is discarded and belittled by her dimwitted parents—her father insists on calling her a boy and harps on her “stupidity” for preferring reading to watching the telly—and her hostile headmistress\, the outrageous and wicked Miss Trunchbull. Reclusive\, but with an ever-growing imagination and sharp mind\, and with a caring protector in her teacher Miss Honey\, Matilda dreams of a better life\, daring to take a stand against unjust forces and to grasp her destiny in her own\, tiny hands. \n\n\n\n\n\nDirected By: Noah Dobbs & Chelsea Denard \nALL PERFORMANCES AT LEE COLLEGE PAC \nBUY TICKETS NOW \nMatilda the Musical Playbill
URL:https://baytownlittletheater.org/event/matilda-the-musical/2025-08-01/
LOCATION:LEE COLLEGE PERFORMING ARTS CENTER\, 805 West Texas Avenue\, Baytown\, TX\, 77520\, United States
END:VEVENT
BEGIN:VEVENT
DTSTART;TZID=America/Chicago:20250802T200000
DTEND;TZID=America/Chicago:20250802T223000
DTSTAMP:20260424T141242
CREATED:20240823T202919Z
LAST-MODIFIED:20250722T130609Z
UID:10000342-1754164800-1754173800@baytownlittletheater.org
SUMMARY:Matilda The Musical
DESCRIPTION:All Performance Dates:\nJuly 25 & 26 – 8:00 pm\nJuly 27 – 2:30 pm\nAugust 1 & 2 – 8:00 pm\nAugust 3 – 2:30 pm \n\n\n\n\n\nBased on Roald Dahl’s classic children’s book of the same name\, Matilda follows Matilda Wormwood\, a bright little girl who immerses herself in books. \nMatilda is discarded and belittled by her dimwitted parents—her father insists on calling her a boy and harps on her “stupidity” for preferring reading to watching the telly—and her hostile headmistress\, the outrageous and wicked Miss Trunchbull. Reclusive\, but with an ever-growing imagination and sharp mind\, and with a caring protector in her teacher Miss Honey\, Matilda dreams of a better life\, daring to take a stand against unjust forces and to grasp her destiny in her own\, tiny hands. \n\n\n\n\n\nDirected By: Noah Dobbs & Chelsea Denard \nALL PERFORMANCES AT LEE COLLEGE PAC \nBUY TICKETS NOW \nMatilda the Musical Playbill
URL:https://baytownlittletheater.org/event/matilda-the-musical/2025-08-02/
LOCATION:LEE COLLEGE PERFORMING ARTS CENTER\, 805 West Texas Avenue\, Baytown\, TX\, 77520\, United States
END:VEVENT
BEGIN:VEVENT
DTSTART;TZID=America/Chicago:20250803T143000
DTEND;TZID=America/Chicago:20250803T170000
DTSTAMP:20260424T141242
CREATED:20240823T202919Z
LAST-MODIFIED:20250722T130609Z
UID:10000343-1754231400-1754240400@baytownlittletheater.org
SUMMARY:Matilda The Musical
DESCRIPTION:All Performance Dates:\nJuly 25 & 26 – 8:00 pm\nJuly 27 – 2:30 pm\nAugust 1 & 2 – 8:00 pm\nAugust 3 – 2:30 pm \n\n\n\n\n\nBased on Roald Dahl’s classic children’s book of the same name\, Matilda follows Matilda Wormwood\, a bright little girl who immerses herself in books. \nMatilda is discarded and belittled by her dimwitted parents—her father insists on calling her a boy and harps on her “stupidity” for preferring reading to watching the telly—and her hostile headmistress\, the outrageous and wicked Miss Trunchbull. Reclusive\, but with an ever-growing imagination and sharp mind\, and with a caring protector in her teacher Miss Honey\, Matilda dreams of a better life\, daring to take a stand against unjust forces and to grasp her destiny in her own\, tiny hands. \n\n\n\n\n\nDirected By: Noah Dobbs & Chelsea Denard \nALL PERFORMANCES AT LEE COLLEGE PAC \nBUY TICKETS NOW \nMatilda the Musical Playbill
URL:https://baytownlittletheater.org/event/matilda-the-musical/2025-08-03/
LOCATION:LEE COLLEGE PERFORMING ARTS CENTER\, 805 West Texas Avenue\, Baytown\, TX\, 77520\, United States
END:VEVENT
BEGIN:VEVENT
DTSTART;TZID=America/Chicago:20250815T200000
DTEND;TZID=America/Chicago:20250815T223000
DTSTAMP:20260424T141242
CREATED:20240823T205425Z
LAST-MODIFIED:20250812T185716Z
UID:10000345-1755288000-1755297000@baytownlittletheater.org
SUMMARY:Bright Ideas
DESCRIPTION:All Performance Dates:\nAugust 15 & 16 – 8:00 pm\nAugust 17 – 2:30 pm\nAugust 22 & 23 – 8:00 pm\nAugust 24 – 2:30 pm \nHow far would you go for your child? \nFor Genevra and Joshua Bradley\, the question is no longer hypothetical. Their three-year-old son\, Mac\, is next on the waiting list to get into the Bright Ideas Early Childhood Development Academy—and everyone knows once you’re in there\, your life will unfold with glorious ease. Josh and Gen have had to scramble all their lives to get this far…and now they are one fatal dinner party away from the ultimate success as parents: The Right Pre-School. You may never look at pre-school—or pesto—the same way again… \nDirected By: Jan Herring-Seeley \nBuy Tickets Now \nBright Ideas Playbill
URL:https://baytownlittletheater.org/event/bright-ideas/2025-08-15/
LOCATION:Baytown Little Theater\, 2 E Texas Ave\, Baytown\, TX\, 77520\, United States
END:VEVENT
BEGIN:VEVENT
DTSTART;TZID=America/Chicago:20250816T200000
DTEND;TZID=America/Chicago:20250816T223000
DTSTAMP:20260424T141242
CREATED:20240823T205425Z
LAST-MODIFIED:20250812T185716Z
UID:10000346-1755374400-1755383400@baytownlittletheater.org
SUMMARY:Bright Ideas
DESCRIPTION:All Performance Dates:\nAugust 15 & 16 – 8:00 pm\nAugust 17 – 2:30 pm\nAugust 22 & 23 – 8:00 pm\nAugust 24 – 2:30 pm \nHow far would you go for your child? \nFor Genevra and Joshua Bradley\, the question is no longer hypothetical. Their three-year-old son\, Mac\, is next on the waiting list to get into the Bright Ideas Early Childhood Development Academy—and everyone knows once you’re in there\, your life will unfold with glorious ease. Josh and Gen have had to scramble all their lives to get this far…and now they are one fatal dinner party away from the ultimate success as parents: The Right Pre-School. You may never look at pre-school—or pesto—the same way again… \nDirected By: Jan Herring-Seeley \nBuy Tickets Now \nBright Ideas Playbill
URL:https://baytownlittletheater.org/event/bright-ideas/2025-08-16/
LOCATION:Baytown Little Theater\, 2 E Texas Ave\, Baytown\, TX\, 77520\, United States
END:VEVENT
BEGIN:VEVENT
DTSTART;TZID=America/Chicago:20250817T143000
DTEND;TZID=America/Chicago:20250817T170000
DTSTAMP:20260424T141242
CREATED:20240823T205425Z
LAST-MODIFIED:20250812T185716Z
UID:10000347-1755441000-1755450000@baytownlittletheater.org
SUMMARY:Bright Ideas
DESCRIPTION:All Performance Dates:\nAugust 15 & 16 – 8:00 pm\nAugust 17 – 2:30 pm\nAugust 22 & 23 – 8:00 pm\nAugust 24 – 2:30 pm \nHow far would you go for your child? \nFor Genevra and Joshua Bradley\, the question is no longer hypothetical. Their three-year-old son\, Mac\, is next on the waiting list to get into the Bright Ideas Early Childhood Development Academy—and everyone knows once you’re in there\, your life will unfold with glorious ease. Josh and Gen have had to scramble all their lives to get this far…and now they are one fatal dinner party away from the ultimate success as parents: The Right Pre-School. You may never look at pre-school—or pesto—the same way again… \nDirected By: Jan Herring-Seeley \nBuy Tickets Now \nBright Ideas Playbill
URL:https://baytownlittletheater.org/event/bright-ideas/2025-08-17/
LOCATION:Baytown Little Theater\, 2 E Texas Ave\, Baytown\, TX\, 77520\, United States
END:VEVENT
BEGIN:VEVENT
DTSTART;TZID=America/Chicago:20250822T200000
DTEND;TZID=America/Chicago:20250822T223000
DTSTAMP:20260424T141242
CREATED:20240823T205425Z
LAST-MODIFIED:20250812T185716Z
UID:10000348-1755892800-1755901800@baytownlittletheater.org
SUMMARY:Bright Ideas
DESCRIPTION:All Performance Dates:\nAugust 15 & 16 – 8:00 pm\nAugust 17 – 2:30 pm\nAugust 22 & 23 – 8:00 pm\nAugust 24 – 2:30 pm \nHow far would you go for your child? \nFor Genevra and Joshua Bradley\, the question is no longer hypothetical. Their three-year-old son\, Mac\, is next on the waiting list to get into the Bright Ideas Early Childhood Development Academy—and everyone knows once you’re in there\, your life will unfold with glorious ease. Josh and Gen have had to scramble all their lives to get this far…and now they are one fatal dinner party away from the ultimate success as parents: The Right Pre-School. You may never look at pre-school—or pesto—the same way again… \nDirected By: Jan Herring-Seeley \nBuy Tickets Now \nBright Ideas Playbill
URL:https://baytownlittletheater.org/event/bright-ideas/2025-08-22/
LOCATION:Baytown Little Theater\, 2 E Texas Ave\, Baytown\, TX\, 77520\, United States
END:VEVENT
BEGIN:VEVENT
DTSTART;TZID=America/Chicago:20250823T200000
DTEND;TZID=America/Chicago:20250823T223000
DTSTAMP:20260424T141242
CREATED:20240823T205425Z
LAST-MODIFIED:20250812T185716Z
UID:10000349-1755979200-1755988200@baytownlittletheater.org
SUMMARY:Bright Ideas
DESCRIPTION:All Performance Dates:\nAugust 15 & 16 – 8:00 pm\nAugust 17 – 2:30 pm\nAugust 22 & 23 – 8:00 pm\nAugust 24 – 2:30 pm \nHow far would you go for your child? \nFor Genevra and Joshua Bradley\, the question is no longer hypothetical. Their three-year-old son\, Mac\, is next on the waiting list to get into the Bright Ideas Early Childhood Development Academy—and everyone knows once you’re in there\, your life will unfold with glorious ease. Josh and Gen have had to scramble all their lives to get this far…and now they are one fatal dinner party away from the ultimate success as parents: The Right Pre-School. You may never look at pre-school—or pesto—the same way again… \nDirected By: Jan Herring-Seeley \nBuy Tickets Now \nBright Ideas Playbill
URL:https://baytownlittletheater.org/event/bright-ideas/2025-08-23/
LOCATION:Baytown Little Theater\, 2 E Texas Ave\, Baytown\, TX\, 77520\, United States
END:VEVENT
BEGIN:VEVENT
DTSTART;TZID=America/Chicago:20250824T143000
DTEND;TZID=America/Chicago:20250824T170000
DTSTAMP:20260424T141242
CREATED:20240823T205425Z
LAST-MODIFIED:20250812T185716Z
UID:10000350-1756045800-1756054800@baytownlittletheater.org
SUMMARY:Bright Ideas
DESCRIPTION:All Performance Dates:\nAugust 15 & 16 – 8:00 pm\nAugust 17 – 2:30 pm\nAugust 22 & 23 – 8:00 pm\nAugust 24 – 2:30 pm \nHow far would you go for your child? \nFor Genevra and Joshua Bradley\, the question is no longer hypothetical. Their three-year-old son\, Mac\, is next on the waiting list to get into the Bright Ideas Early Childhood Development Academy—and everyone knows once you’re in there\, your life will unfold with glorious ease. Josh and Gen have had to scramble all their lives to get this far…and now they are one fatal dinner party away from the ultimate success as parents: The Right Pre-School. You may never look at pre-school—or pesto—the same way again… \nDirected By: Jan Herring-Seeley \nBuy Tickets Now \nBright Ideas Playbill
URL:https://baytownlittletheater.org/event/bright-ideas/2025-08-24/
LOCATION:Baytown Little Theater\, 2 E Texas Ave\, Baytown\, TX\, 77520\, United States
END:VEVENT
END:VCALENDAR