BEGIN:VCALENDAR
VERSION:2.0
PRODID:-//Baytown Little Theater - ECPv6.15.20//NONSGML v1.0//EN
CALSCALE:GREGORIAN
METHOD:PUBLISH
X-ORIGINAL-URL:https://baytownlittletheater.org
X-WR-CALDESC:Events for Baytown Little Theater
REFRESH-INTERVAL;VALUE=DURATION:PT1H
X-Robots-Tag:noindex
X-PUBLISHED-TTL:PT1H
BEGIN:VTIMEZONE
TZID:America/Chicago
BEGIN:DAYLIGHT
TZOFFSETFROM:-0600
TZOFFSETTO:-0500
TZNAME:CDT
DTSTART:20240310T080000
END:DAYLIGHT
BEGIN:STANDARD
TZOFFSETFROM:-0500
TZOFFSETTO:-0600
TZNAME:CST
DTSTART:20241103T070000
END:STANDARD
BEGIN:DAYLIGHT
TZOFFSETFROM:-0600
TZOFFSETTO:-0500
TZNAME:CDT
DTSTART:20250309T080000
END:DAYLIGHT
BEGIN:STANDARD
TZOFFSETFROM:-0500
TZOFFSETTO:-0600
TZNAME:CST
DTSTART:20251102T070000
END:STANDARD
BEGIN:DAYLIGHT
TZOFFSETFROM:-0600
TZOFFSETTO:-0500
TZNAME:CDT
DTSTART:20260308T080000
END:DAYLIGHT
BEGIN:STANDARD
TZOFFSETFROM:-0500
TZOFFSETTO:-0600
TZNAME:CST
DTSTART:20261101T070000
END:STANDARD
END:VTIMEZONE
BEGIN:VEVENT
DTSTART;TZID=America/Chicago:20251003T200000
DTEND;TZID=America/Chicago:20251003T223000
DTSTAMP:20260424T105600
CREATED:20250710T021618Z
LAST-MODIFIED:20250806T162816Z
UID:10000408-1759521600-1759530600@baytownlittletheater.org
SUMMARY:The Outsider
DESCRIPTION:  \nAll Performance Dates:\nSeptember 26 & 27 – 8:00 pm\nSeptember 28 – 2:30 pm\nOctober 3 & 4 – 8:00 pm\nOctober 5 – 2:30 pm \n\n\n\n\n\nNed Newley doesn’t even want to be governor. He’s terrified of public speaking; his poll numbers are impressively bad. To his ever-supportive Chief of Staff\, Ned seems destined to fail. But political consultant Arthur Vance sees things differently: Ned might be the worst candidate to ever run for office. Unless the public is looking for… the worst candidate to ever run for office. A timely and hilarious comedy that skewers politics and celebrates democracy. \n\n\n\n\n\nDirected By: Kim Martin \nBuy Tickets Now
URL:https://baytownlittletheater.org/event/the-outsider/2025-10-03/
LOCATION:Baytown Little Theater\, 2 E Texas Ave\, Baytown\, TX\, 77520\, United States
END:VEVENT
BEGIN:VEVENT
DTSTART;TZID=America/Chicago:20251004T200000
DTEND;TZID=America/Chicago:20251004T223000
DTSTAMP:20260424T105600
CREATED:20250710T021618Z
LAST-MODIFIED:20250806T162816Z
UID:10000409-1759608000-1759617000@baytownlittletheater.org
SUMMARY:The Outsider
DESCRIPTION:  \nAll Performance Dates:\nSeptember 26 & 27 – 8:00 pm\nSeptember 28 – 2:30 pm\nOctober 3 & 4 – 8:00 pm\nOctober 5 – 2:30 pm \n\n\n\n\n\nNed Newley doesn’t even want to be governor. He’s terrified of public speaking; his poll numbers are impressively bad. To his ever-supportive Chief of Staff\, Ned seems destined to fail. But political consultant Arthur Vance sees things differently: Ned might be the worst candidate to ever run for office. Unless the public is looking for… the worst candidate to ever run for office. A timely and hilarious comedy that skewers politics and celebrates democracy. \n\n\n\n\n\nDirected By: Kim Martin \nBuy Tickets Now
URL:https://baytownlittletheater.org/event/the-outsider/2025-10-04/
LOCATION:Baytown Little Theater\, 2 E Texas Ave\, Baytown\, TX\, 77520\, United States
END:VEVENT
BEGIN:VEVENT
DTSTART;TZID=America/Chicago:20251005T143000
DTEND;TZID=America/Chicago:20251005T170000
DTSTAMP:20260424T105600
CREATED:20250710T021618Z
LAST-MODIFIED:20250806T162816Z
UID:10000410-1759674600-1759683600@baytownlittletheater.org
SUMMARY:The Outsider
DESCRIPTION:  \nAll Performance Dates:\nSeptember 26 & 27 – 8:00 pm\nSeptember 28 – 2:30 pm\nOctober 3 & 4 – 8:00 pm\nOctober 5 – 2:30 pm \n\n\n\n\n\nNed Newley doesn’t even want to be governor. He’s terrified of public speaking; his poll numbers are impressively bad. To his ever-supportive Chief of Staff\, Ned seems destined to fail. But political consultant Arthur Vance sees things differently: Ned might be the worst candidate to ever run for office. Unless the public is looking for… the worst candidate to ever run for office. A timely and hilarious comedy that skewers politics and celebrates democracy. \n\n\n\n\n\nDirected By: Kim Martin \nBuy Tickets Now
URL:https://baytownlittletheater.org/event/the-outsider/2025-10-05/
LOCATION:Baytown Little Theater\, 2 E Texas Ave\, Baytown\, TX\, 77520\, United States
END:VEVENT
END:VCALENDAR