BEGIN:VCALENDAR
VERSION:2.0
PRODID:-//Baytown Little Theater - ECPv6.15.20//NONSGML v1.0//EN
CALSCALE:GREGORIAN
METHOD:PUBLISH
X-WR-CALNAME:Baytown Little Theater
X-ORIGINAL-URL:https://baytownlittletheater.org
X-WR-CALDESC:Events for Baytown Little Theater
REFRESH-INTERVAL;VALUE=DURATION:PT1H
X-Robots-Tag:noindex
X-PUBLISHED-TTL:PT1H
BEGIN:VTIMEZONE
TZID:America/Chicago
BEGIN:DAYLIGHT
TZOFFSETFROM:-0600
TZOFFSETTO:-0500
TZNAME:CDT
DTSTART:20250309T080000
END:DAYLIGHT
BEGIN:STANDARD
TZOFFSETFROM:-0500
TZOFFSETTO:-0600
TZNAME:CST
DTSTART:20251102T070000
END:STANDARD
BEGIN:DAYLIGHT
TZOFFSETFROM:-0600
TZOFFSETTO:-0500
TZNAME:CDT
DTSTART:20260308T080000
END:DAYLIGHT
BEGIN:STANDARD
TZOFFSETFROM:-0500
TZOFFSETTO:-0600
TZNAME:CST
DTSTART:20261101T070000
END:STANDARD
BEGIN:DAYLIGHT
TZOFFSETFROM:-0600
TZOFFSETTO:-0500
TZNAME:CDT
DTSTART:20270314T080000
END:DAYLIGHT
BEGIN:STANDARD
TZOFFSETFROM:-0500
TZOFFSETTO:-0600
TZNAME:CST
DTSTART:20271107T070000
END:STANDARD
END:VTIMEZONE
BEGIN:VEVENT
DTSTART;TZID=America/Chicago:20260130T200000
DTEND;TZID=America/Chicago:20260130T220000
DTSTAMP:20260423T134457
CREATED:20250722T215836Z
LAST-MODIFIED:20260114T011025Z
UID:10000454-1769803200-1769810400@baytownlittletheater.org
SUMMARY:The Shadow Box
DESCRIPTION:All Performance Dates:\nJanuary 30 & 31 – 8:00 pm\nFebruary 1 – 2:30 pm\nFebruary 6 & 7 – 8:00 pm\nFebruary 8 – 2:30 pm \nIn this compelling dramatic triptych\, three terminal cancer patients dwell in separate cottages on a hospital’s grounds. The three are attended and visited by family and close friends: Agnes and her mother Felicity\, estranged further by the latter’s dementia; Brian and Beverly\, whose marital complications are exacerbated by Brian’s new lover\, Mark; and Joe and Maggie\, unready for the strain of Joe’s impending death and its effect on their teenage son. \nCONTENT WARNING: The Shadow Box contains strong language\, adult themes\, and mature subject matter. \nBy: Michael Cristofer \nDirected by: Ryan Laubach \nBuy Tickets Now
URL:https://baytownlittletheater.org/event/the-shadow-box/2026-01-30/
LOCATION:Baytown Little Theater\, 2 E Texas Ave\, Baytown\, TX\, 77520\, United States
END:VEVENT
BEGIN:VEVENT
DTSTART;TZID=America/Chicago:20260131T200000
DTEND;TZID=America/Chicago:20260131T220000
DTSTAMP:20260423T134457
CREATED:20250722T215836Z
LAST-MODIFIED:20260114T011025Z
UID:10000456-1769889600-1769896800@baytownlittletheater.org
SUMMARY:The Shadow Box
DESCRIPTION:All Performance Dates:\nJanuary 30 & 31 – 8:00 pm\nFebruary 1 – 2:30 pm\nFebruary 6 & 7 – 8:00 pm\nFebruary 8 – 2:30 pm \nIn this compelling dramatic triptych\, three terminal cancer patients dwell in separate cottages on a hospital’s grounds. The three are attended and visited by family and close friends: Agnes and her mother Felicity\, estranged further by the latter’s dementia; Brian and Beverly\, whose marital complications are exacerbated by Brian’s new lover\, Mark; and Joe and Maggie\, unready for the strain of Joe’s impending death and its effect on their teenage son. \nCONTENT WARNING: The Shadow Box contains strong language\, adult themes\, and mature subject matter. \nBy: Michael Cristofer \nDirected by: Ryan Laubach \nBuy Tickets Now
URL:https://baytownlittletheater.org/event/the-shadow-box/2026-01-31/
LOCATION:Baytown Little Theater\, 2 E Texas Ave\, Baytown\, TX\, 77520\, United States
END:VEVENT
END:VCALENDAR