BEGIN:VCALENDAR
VERSION:2.0
PRODID:-//Baytown Little Theater - ECPv6.15.20//NONSGML v1.0//EN
CALSCALE:GREGORIAN
METHOD:PUBLISH
X-WR-CALNAME:Baytown Little Theater
X-ORIGINAL-URL:https://baytownlittletheater.org
X-WR-CALDESC:Events for Baytown Little Theater
REFRESH-INTERVAL;VALUE=DURATION:PT1H
X-Robots-Tag:noindex
X-PUBLISHED-TTL:PT1H
BEGIN:VTIMEZONE
TZID:America/Chicago
BEGIN:DAYLIGHT
TZOFFSETFROM:-0600
TZOFFSETTO:-0500
TZNAME:CDT
DTSTART:20240310T080000
END:DAYLIGHT
BEGIN:STANDARD
TZOFFSETFROM:-0500
TZOFFSETTO:-0600
TZNAME:CST
DTSTART:20241103T070000
END:STANDARD
BEGIN:DAYLIGHT
TZOFFSETFROM:-0600
TZOFFSETTO:-0500
TZNAME:CDT
DTSTART:20250309T080000
END:DAYLIGHT
BEGIN:STANDARD
TZOFFSETFROM:-0500
TZOFFSETTO:-0600
TZNAME:CST
DTSTART:20251102T070000
END:STANDARD
BEGIN:DAYLIGHT
TZOFFSETFROM:-0600
TZOFFSETTO:-0500
TZNAME:CDT
DTSTART:20260308T080000
END:DAYLIGHT
BEGIN:STANDARD
TZOFFSETFROM:-0500
TZOFFSETTO:-0600
TZNAME:CST
DTSTART:20261101T070000
END:STANDARD
END:VTIMEZONE
BEGIN:VEVENT
DTSTART;TZID=America/Chicago:20250621T200000
DTEND;TZID=America/Chicago:20250621T210000
DTSTAMP:20260423T200025
CREATED:20250509T033751Z
LAST-MODIFIED:20250605T212510Z
UID:10000402-1750536000-1750539600@baytownlittletheater.org
SUMMARY:Tuesdays with Morrie
DESCRIPTION:THE STORY: TUESDAYS WITH MORRIE is the autobiographical story of Mitch Albom\, an accomplished journalist driven solely by his career\, and Morrie Schwartz\, his former college professor. Sixteen years after graduation\, Mitch happens to catch Morrie’s appearance on a television news program and learns that his old professor is battling Lou Gehrig’s Disease. Mitch is reunited with Morrie\, and what starts as a simple visit turns into a weekly pilgrimage and a last class in the meaning of life. \nDirected By: Carrie McRay \nHaven’t seen Tuesdays with Morrie yet? You still have a few more chances! All performances are pay-what-you-can and first-come\, first-served. All proceeds help the cast and crew travel to AACTFest in Des Moines\, Iowa! \n\nOwen Theatre (The Players Theatre Company): June 7th at 7:30 pm\nArt Park Players: June 14th at 7:00pm\nBaytown Little Theater: June 20th-21st at 8:00 pm\n\nRead about BLT Board Member Lyle Tate’s journey in theater\, from Mississippi to Baytown\, and now to the national stage at AACTFest 2025! \nLyle Tate’s Article
URL:https://baytownlittletheater.org/event/tuesdays-with-morrie/2025-06-21/
LOCATION:Baytown Little Theater\, 2 E Texas Ave\, Baytown\, TX\, 77520\, United States
END:VEVENT
BEGIN:VEVENT
DTSTART;TZID=America/Chicago:20250620T200000
DTEND;TZID=America/Chicago:20250620T210000
DTSTAMP:20260423T200025
CREATED:20250509T033751Z
LAST-MODIFIED:20250605T212510Z
UID:10000401-1750449600-1750453200@baytownlittletheater.org
SUMMARY:Tuesdays with Morrie
DESCRIPTION:THE STORY: TUESDAYS WITH MORRIE is the autobiographical story of Mitch Albom\, an accomplished journalist driven solely by his career\, and Morrie Schwartz\, his former college professor. Sixteen years after graduation\, Mitch happens to catch Morrie’s appearance on a television news program and learns that his old professor is battling Lou Gehrig’s Disease. Mitch is reunited with Morrie\, and what starts as a simple visit turns into a weekly pilgrimage and a last class in the meaning of life. \nDirected By: Carrie McRay \nHaven’t seen Tuesdays with Morrie yet? You still have a few more chances! All performances are pay-what-you-can and first-come\, first-served. All proceeds help the cast and crew travel to AACTFest in Des Moines\, Iowa! \n\nOwen Theatre (The Players Theatre Company): June 7th at 7:30 pm\nArt Park Players: June 14th at 7:00pm\nBaytown Little Theater: June 20th-21st at 8:00 pm\n\nRead about BLT Board Member Lyle Tate’s journey in theater\, from Mississippi to Baytown\, and now to the national stage at AACTFest 2025! \nLyle Tate’s Article
URL:https://baytownlittletheater.org/event/tuesdays-with-morrie/2025-06-20/
LOCATION:Baytown Little Theater\, 2 E Texas Ave\, Baytown\, TX\, 77520\, United States
END:VEVENT
BEGIN:VEVENT
DTSTART;TZID=America/Chicago:20250607T193000
DTEND;TZID=America/Chicago:20250607T210000
DTSTAMP:20260423T200025
CREATED:20250509T033751Z
LAST-MODIFIED:20250605T212510Z
UID:10000400-1749324600-1749330000@baytownlittletheater.org
SUMMARY:Tuesdays with Morrie
DESCRIPTION:THE STORY: TUESDAYS WITH MORRIE is the autobiographical story of Mitch Albom\, an accomplished journalist driven solely by his career\, and Morrie Schwartz\, his former college professor. Sixteen years after graduation\, Mitch happens to catch Morrie’s appearance on a television news program and learns that his old professor is battling Lou Gehrig’s Disease. Mitch is reunited with Morrie\, and what starts as a simple visit turns into a weekly pilgrimage and a last class in the meaning of life. \nDirected By: Carrie McRay \nHaven’t seen Tuesdays with Morrie yet? You still have a few more chances! All performances are pay-what-you-can and first-come\, first-served. All proceeds help the cast and crew travel to AACTFest in Des Moines\, Iowa! \n\nOwen Theatre (The Players Theatre Company): June 7th at 7:30 pm\nArt Park Players: June 14th at 7:00pm\nBaytown Little Theater: June 20th-21st at 8:00 pm\n\nRead about BLT Board Member Lyle Tate’s journey in theater\, from Mississippi to Baytown\, and now to the national stage at AACTFest 2025! \nLyle Tate’s Article
URL:https://baytownlittletheater.org/event/tuesdays-with-morrie/2025-06-07/
LOCATION:Baytown Little Theater\, 2 E Texas Ave\, Baytown\, TX\, 77520\, United States
END:VEVENT
END:VCALENDAR