BEGIN:VCALENDAR
VERSION:2.0
PRODID:-//Baytown Little Theater - ECPv6.15.20//NONSGML v1.0//EN
CALSCALE:GREGORIAN
METHOD:PUBLISH
X-WR-CALNAME:Baytown Little Theater
X-ORIGINAL-URL:https://baytownlittletheater.org
X-WR-CALDESC:Events for Baytown Little Theater
REFRESH-INTERVAL;VALUE=DURATION:PT1H
X-Robots-Tag:noindex
X-PUBLISHED-TTL:PT1H
BEGIN:VTIMEZONE
TZID:America/Chicago
BEGIN:DAYLIGHT
TZOFFSETFROM:-0600
TZOFFSETTO:-0500
TZNAME:CDT
DTSTART:20250309T080000
END:DAYLIGHT
BEGIN:STANDARD
TZOFFSETFROM:-0500
TZOFFSETTO:-0600
TZNAME:CST
DTSTART:20251102T070000
END:STANDARD
BEGIN:DAYLIGHT
TZOFFSETFROM:-0600
TZOFFSETTO:-0500
TZNAME:CDT
DTSTART:20260308T080000
END:DAYLIGHT
BEGIN:STANDARD
TZOFFSETFROM:-0500
TZOFFSETTO:-0600
TZNAME:CST
DTSTART:20261101T070000
END:STANDARD
BEGIN:DAYLIGHT
TZOFFSETFROM:-0600
TZOFFSETTO:-0500
TZNAME:CDT
DTSTART:20270314T080000
END:DAYLIGHT
BEGIN:STANDARD
TZOFFSETFROM:-0500
TZOFFSETTO:-0600
TZNAME:CST
DTSTART:20271107T070000
END:STANDARD
END:VTIMEZONE
BEGIN:VEVENT
DTSTART;TZID=America/Chicago:20260515T200000
DTEND;TZID=America/Chicago:20260515T220000
DTSTAMP:20260423T111218
CREATED:20250722T215901Z
LAST-MODIFIED:20260406T011928Z
UID:10000426-1778875200-1778882400@baytownlittletheater.org
SUMMARY:The Musical Comedy Murders of 1940
DESCRIPTION:All Performance Dates:\nMay 15 & 16 – 8:00 pm\nMay 17 – 2:30 pm\nMay 22 & 23 – 8:00 pm\nMay 24 – 2:30 pm \n  \nTHE STORY: The creative team responsible for a recent Broadway flop (in which three chorus girls were murdered by the mysterious “Stage Door Slasher”) assemble for a backer’s audition of their new show at the Westchester estate of a wealthy “angel.” The house is replete with sliding panels\, secret passageways\, and a German maid who is apparently four different people—all of which figure diabolically in the comic mayhem which follows when the infamous “Slasher” makes his reappearance and strikes again—and again. As the composer\, lyricist\, actors\, and director prepare their performance\, and a blizzard cuts off any possible retreat\, bodies start to drop in plain sight\, knives spring out of nowhere\, masked figures drag their victims behind swiveling bookcases\, and accusing fingers point in all directions. However\, and with no thanks to the bumbling police inspector who snowshoes in to investigate\, the mystery is solved in the nick of time and the “Slasher” unmasked—but not before the audience has been treated to a sidesplitting good time and a generous serving of the author’s biting\, satiric\, and refreshingly irreverent wit. \nDirected by: Patti Meiners \nBuy Tickets Now
URL:https://baytownlittletheater.org/event/the-musical-comedy-murders-of-1940/2026-05-15/
LOCATION:Baytown Little Theater\, 2 E Texas Ave\, Baytown\, TX\, 77520\, United States
END:VEVENT
BEGIN:VEVENT
DTSTART;TZID=America/Chicago:20260516T200000
DTEND;TZID=America/Chicago:20260516T220000
DTSTAMP:20260423T111218
CREATED:20250722T215901Z
LAST-MODIFIED:20260406T011928Z
UID:10000427-1778961600-1778968800@baytownlittletheater.org
SUMMARY:The Musical Comedy Murders of 1940
DESCRIPTION:All Performance Dates:\nMay 15 & 16 – 8:00 pm\nMay 17 – 2:30 pm\nMay 22 & 23 – 8:00 pm\nMay 24 – 2:30 pm \n  \nTHE STORY: The creative team responsible for a recent Broadway flop (in which three chorus girls were murdered by the mysterious “Stage Door Slasher”) assemble for a backer’s audition of their new show at the Westchester estate of a wealthy “angel.” The house is replete with sliding panels\, secret passageways\, and a German maid who is apparently four different people—all of which figure diabolically in the comic mayhem which follows when the infamous “Slasher” makes his reappearance and strikes again—and again. As the composer\, lyricist\, actors\, and director prepare their performance\, and a blizzard cuts off any possible retreat\, bodies start to drop in plain sight\, knives spring out of nowhere\, masked figures drag their victims behind swiveling bookcases\, and accusing fingers point in all directions. However\, and with no thanks to the bumbling police inspector who snowshoes in to investigate\, the mystery is solved in the nick of time and the “Slasher” unmasked—but not before the audience has been treated to a sidesplitting good time and a generous serving of the author’s biting\, satiric\, and refreshingly irreverent wit. \nDirected by: Patti Meiners \nBuy Tickets Now
URL:https://baytownlittletheater.org/event/the-musical-comedy-murders-of-1940/2026-05-16/
LOCATION:Baytown Little Theater\, 2 E Texas Ave\, Baytown\, TX\, 77520\, United States
END:VEVENT
BEGIN:VEVENT
DTSTART;TZID=America/Chicago:20260517T143000
DTEND;TZID=America/Chicago:20260517T163000
DTSTAMP:20260423T111218
CREATED:20250722T215901Z
LAST-MODIFIED:20260406T011928Z
UID:10000428-1779028200-1779035400@baytownlittletheater.org
SUMMARY:The Musical Comedy Murders of 1940
DESCRIPTION:All Performance Dates:\nMay 15 & 16 – 8:00 pm\nMay 17 – 2:30 pm\nMay 22 & 23 – 8:00 pm\nMay 24 – 2:30 pm \n  \nTHE STORY: The creative team responsible for a recent Broadway flop (in which three chorus girls were murdered by the mysterious “Stage Door Slasher”) assemble for a backer’s audition of their new show at the Westchester estate of a wealthy “angel.” The house is replete with sliding panels\, secret passageways\, and a German maid who is apparently four different people—all of which figure diabolically in the comic mayhem which follows when the infamous “Slasher” makes his reappearance and strikes again—and again. As the composer\, lyricist\, actors\, and director prepare their performance\, and a blizzard cuts off any possible retreat\, bodies start to drop in plain sight\, knives spring out of nowhere\, masked figures drag their victims behind swiveling bookcases\, and accusing fingers point in all directions. However\, and with no thanks to the bumbling police inspector who snowshoes in to investigate\, the mystery is solved in the nick of time and the “Slasher” unmasked—but not before the audience has been treated to a sidesplitting good time and a generous serving of the author’s biting\, satiric\, and refreshingly irreverent wit. \nDirected by: Patti Meiners \nBuy Tickets Now
URL:https://baytownlittletheater.org/event/the-musical-comedy-murders-of-1940/2026-05-17/
LOCATION:Baytown Little Theater\, 2 E Texas Ave\, Baytown\, TX\, 77520\, United States
END:VEVENT
BEGIN:VEVENT
DTSTART;TZID=America/Chicago:20260522T200000
DTEND;TZID=America/Chicago:20260522T220000
DTSTAMP:20260423T111218
CREATED:20250722T215901Z
LAST-MODIFIED:20260406T011928Z
UID:10000429-1779480000-1779487200@baytownlittletheater.org
SUMMARY:The Musical Comedy Murders of 1940
DESCRIPTION:All Performance Dates:\nMay 15 & 16 – 8:00 pm\nMay 17 – 2:30 pm\nMay 22 & 23 – 8:00 pm\nMay 24 – 2:30 pm \n  \nTHE STORY: The creative team responsible for a recent Broadway flop (in which three chorus girls were murdered by the mysterious “Stage Door Slasher”) assemble for a backer’s audition of their new show at the Westchester estate of a wealthy “angel.” The house is replete with sliding panels\, secret passageways\, and a German maid who is apparently four different people—all of which figure diabolically in the comic mayhem which follows when the infamous “Slasher” makes his reappearance and strikes again—and again. As the composer\, lyricist\, actors\, and director prepare their performance\, and a blizzard cuts off any possible retreat\, bodies start to drop in plain sight\, knives spring out of nowhere\, masked figures drag their victims behind swiveling bookcases\, and accusing fingers point in all directions. However\, and with no thanks to the bumbling police inspector who snowshoes in to investigate\, the mystery is solved in the nick of time and the “Slasher” unmasked—but not before the audience has been treated to a sidesplitting good time and a generous serving of the author’s biting\, satiric\, and refreshingly irreverent wit. \nDirected by: Patti Meiners \nBuy Tickets Now
URL:https://baytownlittletheater.org/event/the-musical-comedy-murders-of-1940/2026-05-22/
LOCATION:Baytown Little Theater\, 2 E Texas Ave\, Baytown\, TX\, 77520\, United States
END:VEVENT
BEGIN:VEVENT
DTSTART;TZID=America/Chicago:20260523T200000
DTEND;TZID=America/Chicago:20260523T220000
DTSTAMP:20260423T111218
CREATED:20250722T215901Z
LAST-MODIFIED:20260406T011928Z
UID:10000430-1779566400-1779573600@baytownlittletheater.org
SUMMARY:The Musical Comedy Murders of 1940
DESCRIPTION:All Performance Dates:\nMay 15 & 16 – 8:00 pm\nMay 17 – 2:30 pm\nMay 22 & 23 – 8:00 pm\nMay 24 – 2:30 pm \n  \nTHE STORY: The creative team responsible for a recent Broadway flop (in which three chorus girls were murdered by the mysterious “Stage Door Slasher”) assemble for a backer’s audition of their new show at the Westchester estate of a wealthy “angel.” The house is replete with sliding panels\, secret passageways\, and a German maid who is apparently four different people—all of which figure diabolically in the comic mayhem which follows when the infamous “Slasher” makes his reappearance and strikes again—and again. As the composer\, lyricist\, actors\, and director prepare their performance\, and a blizzard cuts off any possible retreat\, bodies start to drop in plain sight\, knives spring out of nowhere\, masked figures drag their victims behind swiveling bookcases\, and accusing fingers point in all directions. However\, and with no thanks to the bumbling police inspector who snowshoes in to investigate\, the mystery is solved in the nick of time and the “Slasher” unmasked—but not before the audience has been treated to a sidesplitting good time and a generous serving of the author’s biting\, satiric\, and refreshingly irreverent wit. \nDirected by: Patti Meiners \nBuy Tickets Now
URL:https://baytownlittletheater.org/event/the-musical-comedy-murders-of-1940/2026-05-23/
LOCATION:Baytown Little Theater\, 2 E Texas Ave\, Baytown\, TX\, 77520\, United States
END:VEVENT
BEGIN:VEVENT
DTSTART;TZID=America/Chicago:20260524T143000
DTEND;TZID=America/Chicago:20260524T163000
DTSTAMP:20260423T111218
CREATED:20250722T215901Z
LAST-MODIFIED:20260406T011928Z
UID:10000431-1779633000-1779640200@baytownlittletheater.org
SUMMARY:The Musical Comedy Murders of 1940
DESCRIPTION:All Performance Dates:\nMay 15 & 16 – 8:00 pm\nMay 17 – 2:30 pm\nMay 22 & 23 – 8:00 pm\nMay 24 – 2:30 pm \n  \nTHE STORY: The creative team responsible for a recent Broadway flop (in which three chorus girls were murdered by the mysterious “Stage Door Slasher”) assemble for a backer’s audition of their new show at the Westchester estate of a wealthy “angel.” The house is replete with sliding panels\, secret passageways\, and a German maid who is apparently four different people—all of which figure diabolically in the comic mayhem which follows when the infamous “Slasher” makes his reappearance and strikes again—and again. As the composer\, lyricist\, actors\, and director prepare their performance\, and a blizzard cuts off any possible retreat\, bodies start to drop in plain sight\, knives spring out of nowhere\, masked figures drag their victims behind swiveling bookcases\, and accusing fingers point in all directions. However\, and with no thanks to the bumbling police inspector who snowshoes in to investigate\, the mystery is solved in the nick of time and the “Slasher” unmasked—but not before the audience has been treated to a sidesplitting good time and a generous serving of the author’s biting\, satiric\, and refreshingly irreverent wit. \nDirected by: Patti Meiners \nBuy Tickets Now
URL:https://baytownlittletheater.org/event/the-musical-comedy-murders-of-1940/2026-05-24/
LOCATION:Baytown Little Theater\, 2 E Texas Ave\, Baytown\, TX\, 77520\, United States
END:VEVENT
BEGIN:VEVENT
DTSTART;TZID=America/Chicago:20260814T200000
DTEND;TZID=America/Chicago:20260814T220000
DTSTAMP:20260423T111218
CREATED:20250722T215923Z
LAST-MODIFIED:20260408T150001Z
UID:10000439-1786737600-1786744800@baytownlittletheater.org
SUMMARY:12 Angry Jurors
DESCRIPTION:All Performance Dates:\nAugust 14 & 15 – 8:00 pm\nAugust 16 – 2:30 pm\nAugust 21 & 22 – 8:00 pm\nAugust 23 – 2:30 pm \n  \nThe Story: A 19-year-old man has just stood trial for the fatal stabbing of his father. “He doesn’t stand a chance\,” mutters the guard as the 12 jurors are taken into the bleak jury room. It looks like an open-and-shut case—until one of the jurors begins opening the others’ eyes to the facts. “This is a remarkable thing about democracy\,” says the foreign-born juror\, “that we are notified by mail to come down to this place—and decide on the guilt or innocence of a person; of a man or woman we have not known before. We have nothing to gain or lose by our verdict. We should not make it a personal thing.” But personal it is\, with each juror revealing his or her own character as the various testimonies are re-examined\, the murder is re-enacted and a new murder threat is born before their eyes! Tempers get short\, arguments grow heated\, and the jurors become 12 angry jurors. The jurors’ final verdict and how they reach it—in tense scenes that will electrify your audience and keep them on the edge of their seats—add up to a fine\, mature piece of dramatic literature\, an experience you’ll be proud to present. \nDirected by: Joshua Figueroa \nBuy Tickets Now
URL:https://baytownlittletheater.org/event/12-angry-jurors/2026-08-14/
LOCATION:Baytown Little Theater\, 2 E Texas Ave\, Baytown\, TX\, 77520\, United States
END:VEVENT
BEGIN:VEVENT
DTSTART;TZID=America/Chicago:20260815T200000
DTEND;TZID=America/Chicago:20260815T220000
DTSTAMP:20260423T111218
CREATED:20250722T215923Z
LAST-MODIFIED:20260408T150001Z
UID:10000440-1786824000-1786831200@baytownlittletheater.org
SUMMARY:12 Angry Jurors
DESCRIPTION:All Performance Dates:\nAugust 14 & 15 – 8:00 pm\nAugust 16 – 2:30 pm\nAugust 21 & 22 – 8:00 pm\nAugust 23 – 2:30 pm \n  \nThe Story: A 19-year-old man has just stood trial for the fatal stabbing of his father. “He doesn’t stand a chance\,” mutters the guard as the 12 jurors are taken into the bleak jury room. It looks like an open-and-shut case—until one of the jurors begins opening the others’ eyes to the facts. “This is a remarkable thing about democracy\,” says the foreign-born juror\, “that we are notified by mail to come down to this place—and decide on the guilt or innocence of a person; of a man or woman we have not known before. We have nothing to gain or lose by our verdict. We should not make it a personal thing.” But personal it is\, with each juror revealing his or her own character as the various testimonies are re-examined\, the murder is re-enacted and a new murder threat is born before their eyes! Tempers get short\, arguments grow heated\, and the jurors become 12 angry jurors. The jurors’ final verdict and how they reach it—in tense scenes that will electrify your audience and keep them on the edge of their seats—add up to a fine\, mature piece of dramatic literature\, an experience you’ll be proud to present. \nDirected by: Joshua Figueroa \nBuy Tickets Now
URL:https://baytownlittletheater.org/event/12-angry-jurors/2026-08-15/
LOCATION:Baytown Little Theater\, 2 E Texas Ave\, Baytown\, TX\, 77520\, United States
END:VEVENT
BEGIN:VEVENT
DTSTART;TZID=America/Chicago:20260816T143000
DTEND;TZID=America/Chicago:20260816T163000
DTSTAMP:20260423T111218
CREATED:20250722T215923Z
LAST-MODIFIED:20260408T150001Z
UID:10000441-1786890600-1786897800@baytownlittletheater.org
SUMMARY:12 Angry Jurors
DESCRIPTION:All Performance Dates:\nAugust 14 & 15 – 8:00 pm\nAugust 16 – 2:30 pm\nAugust 21 & 22 – 8:00 pm\nAugust 23 – 2:30 pm \n  \nThe Story: A 19-year-old man has just stood trial for the fatal stabbing of his father. “He doesn’t stand a chance\,” mutters the guard as the 12 jurors are taken into the bleak jury room. It looks like an open-and-shut case—until one of the jurors begins opening the others’ eyes to the facts. “This is a remarkable thing about democracy\,” says the foreign-born juror\, “that we are notified by mail to come down to this place—and decide on the guilt or innocence of a person; of a man or woman we have not known before. We have nothing to gain or lose by our verdict. We should not make it a personal thing.” But personal it is\, with each juror revealing his or her own character as the various testimonies are re-examined\, the murder is re-enacted and a new murder threat is born before their eyes! Tempers get short\, arguments grow heated\, and the jurors become 12 angry jurors. The jurors’ final verdict and how they reach it—in tense scenes that will electrify your audience and keep them on the edge of their seats—add up to a fine\, mature piece of dramatic literature\, an experience you’ll be proud to present. \nDirected by: Joshua Figueroa \nBuy Tickets Now
URL:https://baytownlittletheater.org/event/12-angry-jurors/2026-08-16/
LOCATION:Baytown Little Theater\, 2 E Texas Ave\, Baytown\, TX\, 77520\, United States
END:VEVENT
BEGIN:VEVENT
DTSTART;TZID=America/Chicago:20260821T200000
DTEND;TZID=America/Chicago:20260821T220000
DTSTAMP:20260423T111218
CREATED:20250722T215923Z
LAST-MODIFIED:20260408T150001Z
UID:10000442-1787342400-1787349600@baytownlittletheater.org
SUMMARY:12 Angry Jurors
DESCRIPTION:All Performance Dates:\nAugust 14 & 15 – 8:00 pm\nAugust 16 – 2:30 pm\nAugust 21 & 22 – 8:00 pm\nAugust 23 – 2:30 pm \n  \nThe Story: A 19-year-old man has just stood trial for the fatal stabbing of his father. “He doesn’t stand a chance\,” mutters the guard as the 12 jurors are taken into the bleak jury room. It looks like an open-and-shut case—until one of the jurors begins opening the others’ eyes to the facts. “This is a remarkable thing about democracy\,” says the foreign-born juror\, “that we are notified by mail to come down to this place—and decide on the guilt or innocence of a person; of a man or woman we have not known before. We have nothing to gain or lose by our verdict. We should not make it a personal thing.” But personal it is\, with each juror revealing his or her own character as the various testimonies are re-examined\, the murder is re-enacted and a new murder threat is born before their eyes! Tempers get short\, arguments grow heated\, and the jurors become 12 angry jurors. The jurors’ final verdict and how they reach it—in tense scenes that will electrify your audience and keep them on the edge of their seats—add up to a fine\, mature piece of dramatic literature\, an experience you’ll be proud to present. \nDirected by: Joshua Figueroa \nBuy Tickets Now
URL:https://baytownlittletheater.org/event/12-angry-jurors/2026-08-21/
LOCATION:Baytown Little Theater\, 2 E Texas Ave\, Baytown\, TX\, 77520\, United States
END:VEVENT
BEGIN:VEVENT
DTSTART;TZID=America/Chicago:20260822T200000
DTEND;TZID=America/Chicago:20260822T220000
DTSTAMP:20260423T111218
CREATED:20250722T215923Z
LAST-MODIFIED:20260408T150001Z
UID:10000443-1787428800-1787436000@baytownlittletheater.org
SUMMARY:12 Angry Jurors
DESCRIPTION:All Performance Dates:\nAugust 14 & 15 – 8:00 pm\nAugust 16 – 2:30 pm\nAugust 21 & 22 – 8:00 pm\nAugust 23 – 2:30 pm \n  \nThe Story: A 19-year-old man has just stood trial for the fatal stabbing of his father. “He doesn’t stand a chance\,” mutters the guard as the 12 jurors are taken into the bleak jury room. It looks like an open-and-shut case—until one of the jurors begins opening the others’ eyes to the facts. “This is a remarkable thing about democracy\,” says the foreign-born juror\, “that we are notified by mail to come down to this place—and decide on the guilt or innocence of a person; of a man or woman we have not known before. We have nothing to gain or lose by our verdict. We should not make it a personal thing.” But personal it is\, with each juror revealing his or her own character as the various testimonies are re-examined\, the murder is re-enacted and a new murder threat is born before their eyes! Tempers get short\, arguments grow heated\, and the jurors become 12 angry jurors. The jurors’ final verdict and how they reach it—in tense scenes that will electrify your audience and keep them on the edge of their seats—add up to a fine\, mature piece of dramatic literature\, an experience you’ll be proud to present. \nDirected by: Joshua Figueroa \nBuy Tickets Now
URL:https://baytownlittletheater.org/event/12-angry-jurors/2026-08-22/
LOCATION:Baytown Little Theater\, 2 E Texas Ave\, Baytown\, TX\, 77520\, United States
END:VEVENT
BEGIN:VEVENT
DTSTART;TZID=America/Chicago:20260823T143000
DTEND;TZID=America/Chicago:20260823T163000
DTSTAMP:20260423T111218
CREATED:20250722T215923Z
LAST-MODIFIED:20260408T150001Z
UID:10000444-1787495400-1787502600@baytownlittletheater.org
SUMMARY:12 Angry Jurors
DESCRIPTION:All Performance Dates:\nAugust 14 & 15 – 8:00 pm\nAugust 16 – 2:30 pm\nAugust 21 & 22 – 8:00 pm\nAugust 23 – 2:30 pm \n  \nThe Story: A 19-year-old man has just stood trial for the fatal stabbing of his father. “He doesn’t stand a chance\,” mutters the guard as the 12 jurors are taken into the bleak jury room. It looks like an open-and-shut case—until one of the jurors begins opening the others’ eyes to the facts. “This is a remarkable thing about democracy\,” says the foreign-born juror\, “that we are notified by mail to come down to this place—and decide on the guilt or innocence of a person; of a man or woman we have not known before. We have nothing to gain or lose by our verdict. We should not make it a personal thing.” But personal it is\, with each juror revealing his or her own character as the various testimonies are re-examined\, the murder is re-enacted and a new murder threat is born before their eyes! Tempers get short\, arguments grow heated\, and the jurors become 12 angry jurors. The jurors’ final verdict and how they reach it—in tense scenes that will electrify your audience and keep them on the edge of their seats—add up to a fine\, mature piece of dramatic literature\, an experience you’ll be proud to present. \nDirected by: Joshua Figueroa \nBuy Tickets Now
URL:https://baytownlittletheater.org/event/12-angry-jurors/2026-08-23/
LOCATION:Baytown Little Theater\, 2 E Texas Ave\, Baytown\, TX\, 77520\, United States
END:VEVENT
END:VCALENDAR