BEGIN:VCALENDAR
VERSION:2.0
PRODID:-//Baytown Little Theater - ECPv6.15.20//NONSGML v1.0//EN
CALSCALE:GREGORIAN
METHOD:PUBLISH
X-WR-CALNAME:Baytown Little Theater
X-ORIGINAL-URL:https://baytownlittletheater.org
X-WR-CALDESC:Events for Baytown Little Theater
REFRESH-INTERVAL;VALUE=DURATION:PT1H
X-Robots-Tag:noindex
X-PUBLISHED-TTL:PT1H
BEGIN:VTIMEZONE
TZID:America/Chicago
BEGIN:DAYLIGHT
TZOFFSETFROM:-0600
TZOFFSETTO:-0500
TZNAME:CDT
DTSTART:20250309T080000
END:DAYLIGHT
BEGIN:STANDARD
TZOFFSETFROM:-0500
TZOFFSETTO:-0600
TZNAME:CST
DTSTART:20251102T070000
END:STANDARD
BEGIN:DAYLIGHT
TZOFFSETFROM:-0600
TZOFFSETTO:-0500
TZNAME:CDT
DTSTART:20260308T080000
END:DAYLIGHT
BEGIN:STANDARD
TZOFFSETFROM:-0500
TZOFFSETTO:-0600
TZNAME:CST
DTSTART:20261101T070000
END:STANDARD
BEGIN:DAYLIGHT
TZOFFSETFROM:-0600
TZOFFSETTO:-0500
TZNAME:CDT
DTSTART:20270314T080000
END:DAYLIGHT
BEGIN:STANDARD
TZOFFSETFROM:-0500
TZOFFSETTO:-0600
TZNAME:CST
DTSTART:20271107T070000
END:STANDARD
END:VTIMEZONE
BEGIN:VEVENT
DTSTART;TZID=America/Chicago:20260724T200000
DTEND;TZID=America/Chicago:20260724T223000
DTSTAMP:20260423T123223
CREATED:20250722T215913Z
LAST-MODIFIED:20250722T215913Z
UID:10000432-1784923200-1784932200@baytownlittletheater.org
SUMMARY:1776
DESCRIPTION:All Performance Dates:\nJuly 24 & 25 – 8:00 pm\nJuly 26 – 2:30 pm\nJuly 31 & August 01 – 8:00 pm\nAugust 02 – 2:30 pm \n  \nThe Story: It’s the summer of 1776\, and the nation is ready to declare independence… if only our founding fathers can agree to do it! 1776 follows John Adams of Massachusetts\, Benjamin Franklin of Pennsylvania and Thomas Jefferson of Virginia as they attempt to convince the members of the Second Continental Congress to vote for independence from the shackles of the British monarchy by signing the Declaration of Independence. \n  \nThe seminal event in American history blazes to vivid life in this most unconventional of Broadway hits. 1776 puts a human face on the pages of history as we see the men behind the national icons: proud\, frightened\, uncertain\, irritable\, charming\, often petty and ultimately noble figures\, determined to do the right thing for a fledgling nation. \nDirected by: Jim Wadzinski \nBuy Tickets Now
URL:https://baytownlittletheater.org/event/1776/2026-07-24/
LOCATION:LEE COLLEGE PERFORMING ARTS CENTER\, 805 West Texas Avenue\, Baytown\, TX\, 77520\, United States
END:VEVENT
BEGIN:VEVENT
DTSTART;TZID=America/Chicago:20260725T200000
DTEND;TZID=America/Chicago:20260725T223000
DTSTAMP:20260423T123223
CREATED:20250722T215913Z
LAST-MODIFIED:20250722T215913Z
UID:10000433-1785009600-1785018600@baytownlittletheater.org
SUMMARY:1776
DESCRIPTION:All Performance Dates:\nJuly 24 & 25 – 8:00 pm\nJuly 26 – 2:30 pm\nJuly 31 & August 01 – 8:00 pm\nAugust 02 – 2:30 pm \n  \nThe Story: It’s the summer of 1776\, and the nation is ready to declare independence… if only our founding fathers can agree to do it! 1776 follows John Adams of Massachusetts\, Benjamin Franklin of Pennsylvania and Thomas Jefferson of Virginia as they attempt to convince the members of the Second Continental Congress to vote for independence from the shackles of the British monarchy by signing the Declaration of Independence. \n  \nThe seminal event in American history blazes to vivid life in this most unconventional of Broadway hits. 1776 puts a human face on the pages of history as we see the men behind the national icons: proud\, frightened\, uncertain\, irritable\, charming\, often petty and ultimately noble figures\, determined to do the right thing for a fledgling nation. \nDirected by: Jim Wadzinski \nBuy Tickets Now
URL:https://baytownlittletheater.org/event/1776/2026-07-25/
LOCATION:LEE COLLEGE PERFORMING ARTS CENTER\, 805 West Texas Avenue\, Baytown\, TX\, 77520\, United States
END:VEVENT
BEGIN:VEVENT
DTSTART;TZID=America/Chicago:20260726T143000
DTEND;TZID=America/Chicago:20260726T170000
DTSTAMP:20260423T123223
CREATED:20250722T215913Z
LAST-MODIFIED:20250722T215913Z
UID:10000434-1785076200-1785085200@baytownlittletheater.org
SUMMARY:1776
DESCRIPTION:All Performance Dates:\nJuly 24 & 25 – 8:00 pm\nJuly 26 – 2:30 pm\nJuly 31 & August 01 – 8:00 pm\nAugust 02 – 2:30 pm \n  \nThe Story: It’s the summer of 1776\, and the nation is ready to declare independence… if only our founding fathers can agree to do it! 1776 follows John Adams of Massachusetts\, Benjamin Franklin of Pennsylvania and Thomas Jefferson of Virginia as they attempt to convince the members of the Second Continental Congress to vote for independence from the shackles of the British monarchy by signing the Declaration of Independence. \n  \nThe seminal event in American history blazes to vivid life in this most unconventional of Broadway hits. 1776 puts a human face on the pages of history as we see the men behind the national icons: proud\, frightened\, uncertain\, irritable\, charming\, often petty and ultimately noble figures\, determined to do the right thing for a fledgling nation. \nDirected by: Jim Wadzinski \nBuy Tickets Now
URL:https://baytownlittletheater.org/event/1776/2026-07-26/
LOCATION:LEE COLLEGE PERFORMING ARTS CENTER\, 805 West Texas Avenue\, Baytown\, TX\, 77520\, United States
END:VEVENT
BEGIN:VEVENT
DTSTART;TZID=America/Chicago:20260731T200000
DTEND;TZID=America/Chicago:20260731T223000
DTSTAMP:20260423T123223
CREATED:20250722T215913Z
LAST-MODIFIED:20250722T215913Z
UID:10000435-1785528000-1785537000@baytownlittletheater.org
SUMMARY:1776
DESCRIPTION:All Performance Dates:\nJuly 24 & 25 – 8:00 pm\nJuly 26 – 2:30 pm\nJuly 31 & August 01 – 8:00 pm\nAugust 02 – 2:30 pm \n  \nThe Story: It’s the summer of 1776\, and the nation is ready to declare independence… if only our founding fathers can agree to do it! 1776 follows John Adams of Massachusetts\, Benjamin Franklin of Pennsylvania and Thomas Jefferson of Virginia as they attempt to convince the members of the Second Continental Congress to vote for independence from the shackles of the British monarchy by signing the Declaration of Independence. \n  \nThe seminal event in American history blazes to vivid life in this most unconventional of Broadway hits. 1776 puts a human face on the pages of history as we see the men behind the national icons: proud\, frightened\, uncertain\, irritable\, charming\, often petty and ultimately noble figures\, determined to do the right thing for a fledgling nation. \nDirected by: Jim Wadzinski \nBuy Tickets Now
URL:https://baytownlittletheater.org/event/1776/2026-07-31/
LOCATION:LEE COLLEGE PERFORMING ARTS CENTER\, 805 West Texas Avenue\, Baytown\, TX\, 77520\, United States
END:VEVENT
BEGIN:VEVENT
DTSTART;TZID=America/Chicago:20260801T200000
DTEND;TZID=America/Chicago:20260801T223000
DTSTAMP:20260423T123223
CREATED:20250722T215913Z
LAST-MODIFIED:20250722T215913Z
UID:10000436-1785614400-1785623400@baytownlittletheater.org
SUMMARY:1776
DESCRIPTION:All Performance Dates:\nJuly 24 & 25 – 8:00 pm\nJuly 26 – 2:30 pm\nJuly 31 & August 01 – 8:00 pm\nAugust 02 – 2:30 pm \n  \nThe Story: It’s the summer of 1776\, and the nation is ready to declare independence… if only our founding fathers can agree to do it! 1776 follows John Adams of Massachusetts\, Benjamin Franklin of Pennsylvania and Thomas Jefferson of Virginia as they attempt to convince the members of the Second Continental Congress to vote for independence from the shackles of the British monarchy by signing the Declaration of Independence. \n  \nThe seminal event in American history blazes to vivid life in this most unconventional of Broadway hits. 1776 puts a human face on the pages of history as we see the men behind the national icons: proud\, frightened\, uncertain\, irritable\, charming\, often petty and ultimately noble figures\, determined to do the right thing for a fledgling nation. \nDirected by: Jim Wadzinski \nBuy Tickets Now
URL:https://baytownlittletheater.org/event/1776/2026-08-01/
LOCATION:LEE COLLEGE PERFORMING ARTS CENTER\, 805 West Texas Avenue\, Baytown\, TX\, 77520\, United States
END:VEVENT
BEGIN:VEVENT
DTSTART;TZID=America/Chicago:20260802T143000
DTEND;TZID=America/Chicago:20260802T170000
DTSTAMP:20260423T123223
CREATED:20250722T215913Z
LAST-MODIFIED:20250722T215913Z
UID:10000437-1785681000-1785690000@baytownlittletheater.org
SUMMARY:1776
DESCRIPTION:All Performance Dates:\nJuly 24 & 25 – 8:00 pm\nJuly 26 – 2:30 pm\nJuly 31 & August 01 – 8:00 pm\nAugust 02 – 2:30 pm \n  \nThe Story: It’s the summer of 1776\, and the nation is ready to declare independence… if only our founding fathers can agree to do it! 1776 follows John Adams of Massachusetts\, Benjamin Franklin of Pennsylvania and Thomas Jefferson of Virginia as they attempt to convince the members of the Second Continental Congress to vote for independence from the shackles of the British monarchy by signing the Declaration of Independence. \n  \nThe seminal event in American history blazes to vivid life in this most unconventional of Broadway hits. 1776 puts a human face on the pages of history as we see the men behind the national icons: proud\, frightened\, uncertain\, irritable\, charming\, often petty and ultimately noble figures\, determined to do the right thing for a fledgling nation. \nDirected by: Jim Wadzinski \nBuy Tickets Now
URL:https://baytownlittletheater.org/event/1776/2026-08-02/
LOCATION:LEE COLLEGE PERFORMING ARTS CENTER\, 805 West Texas Avenue\, Baytown\, TX\, 77520\, United States
END:VEVENT
END:VCALENDAR