BEGIN:VCALENDAR
VERSION:2.0
PRODID:-//Baytown Little Theater - ECPv6.15.20//NONSGML v1.0//EN
CALSCALE:GREGORIAN
METHOD:PUBLISH
X-ORIGINAL-URL:https://baytownlittletheater.org
X-WR-CALDESC:Events for Baytown Little Theater
REFRESH-INTERVAL;VALUE=DURATION:PT1H
X-Robots-Tag:noindex
X-PUBLISHED-TTL:PT1H
BEGIN:VTIMEZONE
TZID:America/Chicago
BEGIN:DAYLIGHT
TZOFFSETFROM:-0600
TZOFFSETTO:-0500
TZNAME:CDT
DTSTART:20220313T080000
END:DAYLIGHT
BEGIN:STANDARD
TZOFFSETFROM:-0500
TZOFFSETTO:-0600
TZNAME:CST
DTSTART:20221106T070000
END:STANDARD
BEGIN:DAYLIGHT
TZOFFSETFROM:-0600
TZOFFSETTO:-0500
TZNAME:CDT
DTSTART:20230312T080000
END:DAYLIGHT
BEGIN:STANDARD
TZOFFSETFROM:-0500
TZOFFSETTO:-0600
TZNAME:CST
DTSTART:20231105T070000
END:STANDARD
BEGIN:DAYLIGHT
TZOFFSETFROM:-0600
TZOFFSETTO:-0500
TZNAME:CDT
DTSTART:20240310T080000
END:DAYLIGHT
BEGIN:STANDARD
TZOFFSETFROM:-0500
TZOFFSETTO:-0600
TZNAME:CST
DTSTART:20241103T070000
END:STANDARD
END:VTIMEZONE
BEGIN:VEVENT
DTSTART;TZID=America/Chicago:20231215T200000
DTEND;TZID=America/Chicago:20231215T223000
DTSTAMP:20260423T155937
CREATED:20230815T173715Z
LAST-MODIFIED:20231120T134302Z
UID:10000168-1702670400-1702679400@baytownlittletheater.org
SUMMARY:A Cardboard Christmas
DESCRIPTION:All Performance Dates:\nDecember 1 & 2 – 8:00 pm\nDecember 3 – 2:30 pm\nDecember 8 & 9 – 8:00 pm\nDecember 10 – 2:30 pm\nDecember 15 & 16 – 8:00 pm\nDecember 17 – 2:30 pm \nIt’s near Christmas\, and Alicia and her daughter (or son) Tate are homeless and surviving the best way that they can. Alicia’s brother Jeffrey shows up to try to help them\, and as they are navigating trying to get out of their situation\, an elderly stranger shows up. \nThe stranger is obviously ill and new to the streets\, and Alicia and Tate begin to show him the “ropes” of homelessness. In exchange\, the stranger shares interesting stories of how the different Christmas carols came to be: Silent Night\, O Holy Night\, The Christmas Song\, etc. much to the delight of Tate. \nMeanwhile\, many folks seem to be looking for the old stranger…police detectives\, lawyers\, and the like. Alicia and Tate refuse to give him up\, and the stories continue\, culminating in the heartbreaking story of how Robert May wrote the most popular Christmas story and song of all\, “Rudolph the Red-Nosed Reindeer\,” and the happy ending of how that song lifts Alicia and Tate from their plight. \nDirected By: Jim Wadzinski \nAuditions:  Ended \nBuy Tickets
URL:https://baytownlittletheater.org/event/a-cardboard-christmas/2023-12-15/
LOCATION:LEE COLLEGE PERFORMING ARTS CENTER\, 805 West Texas Avenue\, Baytown\, TX\, 77520\, United States
END:VEVENT
BEGIN:VEVENT
DTSTART;TZID=America/Chicago:20231210T143000
DTEND;TZID=America/Chicago:20231210T170000
DTSTAMP:20260423T155937
CREATED:20230815T173715Z
LAST-MODIFIED:20231120T134302Z
UID:10000167-1702218600-1702227600@baytownlittletheater.org
SUMMARY:A Cardboard Christmas
DESCRIPTION:All Performance Dates:\nDecember 1 & 2 – 8:00 pm\nDecember 3 – 2:30 pm\nDecember 8 & 9 – 8:00 pm\nDecember 10 – 2:30 pm\nDecember 15 & 16 – 8:00 pm\nDecember 17 – 2:30 pm \nIt’s near Christmas\, and Alicia and her daughter (or son) Tate are homeless and surviving the best way that they can. Alicia’s brother Jeffrey shows up to try to help them\, and as they are navigating trying to get out of their situation\, an elderly stranger shows up. \nThe stranger is obviously ill and new to the streets\, and Alicia and Tate begin to show him the “ropes” of homelessness. In exchange\, the stranger shares interesting stories of how the different Christmas carols came to be: Silent Night\, O Holy Night\, The Christmas Song\, etc. much to the delight of Tate. \nMeanwhile\, many folks seem to be looking for the old stranger…police detectives\, lawyers\, and the like. Alicia and Tate refuse to give him up\, and the stories continue\, culminating in the heartbreaking story of how Robert May wrote the most popular Christmas story and song of all\, “Rudolph the Red-Nosed Reindeer\,” and the happy ending of how that song lifts Alicia and Tate from their plight. \nDirected By: Jim Wadzinski \nAuditions:  Ended \nBuy Tickets
URL:https://baytownlittletheater.org/event/a-cardboard-christmas/2023-12-10/
LOCATION:LEE COLLEGE PERFORMING ARTS CENTER\, 805 West Texas Avenue\, Baytown\, TX\, 77520\, United States
END:VEVENT
BEGIN:VEVENT
DTSTART;TZID=America/Chicago:20231209T200000
DTEND;TZID=America/Chicago:20231209T223000
DTSTAMP:20260423T155937
CREATED:20230815T173715Z
LAST-MODIFIED:20231120T134302Z
UID:10000166-1702152000-1702161000@baytownlittletheater.org
SUMMARY:A Cardboard Christmas
DESCRIPTION:All Performance Dates:\nDecember 1 & 2 – 8:00 pm\nDecember 3 – 2:30 pm\nDecember 8 & 9 – 8:00 pm\nDecember 10 – 2:30 pm\nDecember 15 & 16 – 8:00 pm\nDecember 17 – 2:30 pm \nIt’s near Christmas\, and Alicia and her daughter (or son) Tate are homeless and surviving the best way that they can. Alicia’s brother Jeffrey shows up to try to help them\, and as they are navigating trying to get out of their situation\, an elderly stranger shows up. \nThe stranger is obviously ill and new to the streets\, and Alicia and Tate begin to show him the “ropes” of homelessness. In exchange\, the stranger shares interesting stories of how the different Christmas carols came to be: Silent Night\, O Holy Night\, The Christmas Song\, etc. much to the delight of Tate. \nMeanwhile\, many folks seem to be looking for the old stranger…police detectives\, lawyers\, and the like. Alicia and Tate refuse to give him up\, and the stories continue\, culminating in the heartbreaking story of how Robert May wrote the most popular Christmas story and song of all\, “Rudolph the Red-Nosed Reindeer\,” and the happy ending of how that song lifts Alicia and Tate from their plight. \nDirected By: Jim Wadzinski \nAuditions:  Ended \nBuy Tickets
URL:https://baytownlittletheater.org/event/a-cardboard-christmas/2023-12-09/
LOCATION:LEE COLLEGE PERFORMING ARTS CENTER\, 805 West Texas Avenue\, Baytown\, TX\, 77520\, United States
END:VEVENT
BEGIN:VEVENT
DTSTART;TZID=America/Chicago:20231208T200000
DTEND;TZID=America/Chicago:20231208T223000
DTSTAMP:20260423T155937
CREATED:20230815T173715Z
LAST-MODIFIED:20231120T134302Z
UID:10000165-1702065600-1702074600@baytownlittletheater.org
SUMMARY:A Cardboard Christmas
DESCRIPTION:All Performance Dates:\nDecember 1 & 2 – 8:00 pm\nDecember 3 – 2:30 pm\nDecember 8 & 9 – 8:00 pm\nDecember 10 – 2:30 pm\nDecember 15 & 16 – 8:00 pm\nDecember 17 – 2:30 pm \nIt’s near Christmas\, and Alicia and her daughter (or son) Tate are homeless and surviving the best way that they can. Alicia’s brother Jeffrey shows up to try to help them\, and as they are navigating trying to get out of their situation\, an elderly stranger shows up. \nThe stranger is obviously ill and new to the streets\, and Alicia and Tate begin to show him the “ropes” of homelessness. In exchange\, the stranger shares interesting stories of how the different Christmas carols came to be: Silent Night\, O Holy Night\, The Christmas Song\, etc. much to the delight of Tate. \nMeanwhile\, many folks seem to be looking for the old stranger…police detectives\, lawyers\, and the like. Alicia and Tate refuse to give him up\, and the stories continue\, culminating in the heartbreaking story of how Robert May wrote the most popular Christmas story and song of all\, “Rudolph the Red-Nosed Reindeer\,” and the happy ending of how that song lifts Alicia and Tate from their plight. \nDirected By: Jim Wadzinski \nAuditions:  Ended \nBuy Tickets
URL:https://baytownlittletheater.org/event/a-cardboard-christmas/2023-12-08/
LOCATION:LEE COLLEGE PERFORMING ARTS CENTER\, 805 West Texas Avenue\, Baytown\, TX\, 77520\, United States
END:VEVENT
BEGIN:VEVENT
DTSTART;TZID=America/Chicago:20231203T200000
DTEND;TZID=America/Chicago:20231203T223000
DTSTAMP:20260423T155937
CREATED:20230815T173715Z
LAST-MODIFIED:20231120T134302Z
UID:10000172-1701633600-1701642600@baytownlittletheater.org
SUMMARY:A Cardboard Christmas
DESCRIPTION:All Performance Dates:\nDecember 1 & 2 – 8:00 pm\nDecember 3 – 2:30 pm\nDecember 8 & 9 – 8:00 pm\nDecember 10 – 2:30 pm\nDecember 15 & 16 – 8:00 pm\nDecember 17 – 2:30 pm \nIt’s near Christmas\, and Alicia and her daughter (or son) Tate are homeless and surviving the best way that they can. Alicia’s brother Jeffrey shows up to try to help them\, and as they are navigating trying to get out of their situation\, an elderly stranger shows up. \nThe stranger is obviously ill and new to the streets\, and Alicia and Tate begin to show him the “ropes” of homelessness. In exchange\, the stranger shares interesting stories of how the different Christmas carols came to be: Silent Night\, O Holy Night\, The Christmas Song\, etc. much to the delight of Tate. \nMeanwhile\, many folks seem to be looking for the old stranger…police detectives\, lawyers\, and the like. Alicia and Tate refuse to give him up\, and the stories continue\, culminating in the heartbreaking story of how Robert May wrote the most popular Christmas story and song of all\, “Rudolph the Red-Nosed Reindeer\,” and the happy ending of how that song lifts Alicia and Tate from their plight. \nDirected By: Jim Wadzinski \nAuditions:  Ended \nBuy Tickets
URL:https://baytownlittletheater.org/event/a-cardboard-christmas/2023-12-03/
LOCATION:LEE COLLEGE PERFORMING ARTS CENTER\, 805 West Texas Avenue\, Baytown\, TX\, 77520\, United States
END:VEVENT
BEGIN:VEVENT
DTSTART;TZID=America/Chicago:20231202T143000
DTEND;TZID=America/Chicago:20231202T170000
DTSTAMP:20260423T155937
CREATED:20230815T173715Z
LAST-MODIFIED:20231120T134302Z
UID:10000171-1701527400-1701536400@baytownlittletheater.org
SUMMARY:A Cardboard Christmas
DESCRIPTION:All Performance Dates:\nDecember 1 & 2 – 8:00 pm\nDecember 3 – 2:30 pm\nDecember 8 & 9 – 8:00 pm\nDecember 10 – 2:30 pm\nDecember 15 & 16 – 8:00 pm\nDecember 17 – 2:30 pm \nIt’s near Christmas\, and Alicia and her daughter (or son) Tate are homeless and surviving the best way that they can. Alicia’s brother Jeffrey shows up to try to help them\, and as they are navigating trying to get out of their situation\, an elderly stranger shows up. \nThe stranger is obviously ill and new to the streets\, and Alicia and Tate begin to show him the “ropes” of homelessness. In exchange\, the stranger shares interesting stories of how the different Christmas carols came to be: Silent Night\, O Holy Night\, The Christmas Song\, etc. much to the delight of Tate. \nMeanwhile\, many folks seem to be looking for the old stranger…police detectives\, lawyers\, and the like. Alicia and Tate refuse to give him up\, and the stories continue\, culminating in the heartbreaking story of how Robert May wrote the most popular Christmas story and song of all\, “Rudolph the Red-Nosed Reindeer\,” and the happy ending of how that song lifts Alicia and Tate from their plight. \nDirected By: Jim Wadzinski \nAuditions:  Ended \nBuy Tickets
URL:https://baytownlittletheater.org/event/a-cardboard-christmas/2023-12-02/
LOCATION:LEE COLLEGE PERFORMING ARTS CENTER\, 805 West Texas Avenue\, Baytown\, TX\, 77520\, United States
END:VEVENT
BEGIN:VEVENT
DTSTART;TZID=America/Chicago:20231201T200000
DTEND;TZID=America/Chicago:20231201T223000
DTSTAMP:20260423T155937
CREATED:20230815T173904Z
LAST-MODIFIED:20231120T134227Z
UID:10000163-1701460800-1701469800@baytownlittletheater.org
SUMMARY:A Cardboard Christmas
DESCRIPTION:All Performance Dates:\nDecember 1 & 2 – 8:00 pm\nDecember 3 – 2:30 pm\nDecember 8 & 9 – 8:00 pm\nDecember 10 – 2:30 pm\nDecember 15 & 16 – 8:00 pm\nDecember 17 – 2:30 pm \nIt’s near Christmas\, and Alicia and her daughter (or son) Tate are homeless and surviving the best way that they can. Alicia’s brother Jeffrey shows up to try to help them\, and as they are navigating trying to get out of their situation\, an elderly stranger shows up. \nThe stranger is obviously ill and new to the streets\, and Alicia and Tate begin to show him the “ropes” of homelessness. In exchange\, the stranger shares interesting stories of how the different Christmas carols came to be: Silent Night\, O Holy Night\, The Christmas Song\, etc. much to the delight of Tate. \nMeanwhile\, many folks seem to be looking for the old stranger…police detectives\, lawyers\, and the like. Alicia and Tate refuse to give him up\, and the stories continue\, culminating in the heartbreaking story of how Robert May wrote the most popular Christmas story and song of all\, “Rudolph the Red-Nosed Reindeer\,” and the happy ending of how that song lifts Alicia and Tate from their plight. \nDirected By: Jim Wadzinski \nAuditions:  Ended \nBuy Tickets
URL:https://baytownlittletheater.org/event/a-cardboard-christmas-2/
LOCATION:LEE COLLEGE PERFORMING ARTS CENTER\, 805 West Texas Avenue\, Baytown\, TX\, 77520\, United States
END:VEVENT
BEGIN:VEVENT
DTSTART;TZID=America/Chicago:20230806T143000
DTEND;TZID=America/Chicago:20230806T170000
DTSTAMP:20260423T155937
CREATED:20230531T000246Z
LAST-MODIFIED:20230721T151504Z
UID:10000006-1691332200-1691341200@baytownlittletheater.org
SUMMARY:Into The Woods
DESCRIPTION:All Performance Dates:\nJuly 28 & 29 – 8:00 pm\nJuly 30 – 2:30 pm\nAugust 4 & 5 – 8:00 pm\nAugust 6 – 2:30 pm \nJames Lapine and Stephen Sondheim take everyone’s favorite storybook characters and bring them together for a timeless\, yet relevant\, piece… and a rare modern classic. The Tony Award-winning book and score are both enchanting and touching. \nThe story follows a Baker and his wife\, who wish to have a child; Cinderella\, who wishes to attend the King’s Festival; and Jack\, who wishes his cow would give milk. When the Baker and his wife learn that they cannot have a child because of a Witch’s curse\, the two set off on a journey to break the curse. Everyone’s wish is granted\, but the consequences of their actions return to haunt them later with disastrous results. \nOne of Sondheim’s most popular works\, Into the Woods is a musically sophisticated show with the opportunity to feature actors adept at dark comedy. Designers will especially enjoy highlighting the fantastical elements of this magical word. \nDirected By: Noah Dobbs \nAuditions:  May 21st @ Baytown Little Theater and  22\,23 at Lee College Performing Arts Center all sessions are 7PM to 10PM \nAll performances at LEE COLLEGE PERFORMING ARTS CENTER 805 W Texas Ave\,  Baytown\, TX 77520
URL:https://baytownlittletheater.org/event/into-the-woods/2023-08-06/
LOCATION:LEE COLLEGE PERFORMING ARTS CENTER\, 805 West Texas Avenue\, Baytown\, TX\, 77520\, United States
END:VEVENT
BEGIN:VEVENT
DTSTART;TZID=America/Chicago:20230805T200000
DTEND;TZID=America/Chicago:20230805T223000
DTSTAMP:20260423T155937
CREATED:20230531T000246Z
LAST-MODIFIED:20230721T151504Z
UID:10000109-1691265600-1691274600@baytownlittletheater.org
SUMMARY:Into The Woods
DESCRIPTION:All Performance Dates:\nJuly 28 & 29 – 8:00 pm\nJuly 30 – 2:30 pm\nAugust 4 & 5 – 8:00 pm\nAugust 6 – 2:30 pm \nJames Lapine and Stephen Sondheim take everyone’s favorite storybook characters and bring them together for a timeless\, yet relevant\, piece… and a rare modern classic. The Tony Award-winning book and score are both enchanting and touching. \nThe story follows a Baker and his wife\, who wish to have a child; Cinderella\, who wishes to attend the King’s Festival; and Jack\, who wishes his cow would give milk. When the Baker and his wife learn that they cannot have a child because of a Witch’s curse\, the two set off on a journey to break the curse. Everyone’s wish is granted\, but the consequences of their actions return to haunt them later with disastrous results. \nOne of Sondheim’s most popular works\, Into the Woods is a musically sophisticated show with the opportunity to feature actors adept at dark comedy. Designers will especially enjoy highlighting the fantastical elements of this magical word. \nDirected By: Noah Dobbs \nAuditions:  May 21st @ Baytown Little Theater and  22\,23 at Lee College Performing Arts Center all sessions are 7PM to 10PM \nAll performances at LEE COLLEGE PERFORMING ARTS CENTER 805 W Texas Ave\,  Baytown\, TX 77520
URL:https://baytownlittletheater.org/event/into-the-woods/2023-08-05/
LOCATION:LEE COLLEGE PERFORMING ARTS CENTER\, 805 West Texas Avenue\, Baytown\, TX\, 77520\, United States
END:VEVENT
BEGIN:VEVENT
DTSTART;TZID=America/Chicago:20230804T200000
DTEND;TZID=America/Chicago:20230804T223000
DTSTAMP:20260423T155937
CREATED:20230531T000246Z
LAST-MODIFIED:20230721T151504Z
UID:10000108-1691179200-1691188200@baytownlittletheater.org
SUMMARY:Into The Woods
DESCRIPTION:All Performance Dates:\nJuly 28 & 29 – 8:00 pm\nJuly 30 – 2:30 pm\nAugust 4 & 5 – 8:00 pm\nAugust 6 – 2:30 pm \nJames Lapine and Stephen Sondheim take everyone’s favorite storybook characters and bring them together for a timeless\, yet relevant\, piece… and a rare modern classic. The Tony Award-winning book and score are both enchanting and touching. \nThe story follows a Baker and his wife\, who wish to have a child; Cinderella\, who wishes to attend the King’s Festival; and Jack\, who wishes his cow would give milk. When the Baker and his wife learn that they cannot have a child because of a Witch’s curse\, the two set off on a journey to break the curse. Everyone’s wish is granted\, but the consequences of their actions return to haunt them later with disastrous results. \nOne of Sondheim’s most popular works\, Into the Woods is a musically sophisticated show with the opportunity to feature actors adept at dark comedy. Designers will especially enjoy highlighting the fantastical elements of this magical word. \nDirected By: Noah Dobbs \nAuditions:  May 21st @ Baytown Little Theater and  22\,23 at Lee College Performing Arts Center all sessions are 7PM to 10PM \nAll performances at LEE COLLEGE PERFORMING ARTS CENTER 805 W Texas Ave\,  Baytown\, TX 77520
URL:https://baytownlittletheater.org/event/into-the-woods/2023-08-04/
LOCATION:LEE COLLEGE PERFORMING ARTS CENTER\, 805 West Texas Avenue\, Baytown\, TX\, 77520\, United States
END:VEVENT
BEGIN:VEVENT
DTSTART;TZID=America/Chicago:20230730T143000
DTEND;TZID=America/Chicago:20230730T170000
DTSTAMP:20260423T155937
CREATED:20230531T000246Z
LAST-MODIFIED:20230721T151504Z
UID:10000110-1690727400-1690736400@baytownlittletheater.org
SUMMARY:Into The Woods
DESCRIPTION:All Performance Dates:\nJuly 28 & 29 – 8:00 pm\nJuly 30 – 2:30 pm\nAugust 4 & 5 – 8:00 pm\nAugust 6 – 2:30 pm \nJames Lapine and Stephen Sondheim take everyone’s favorite storybook characters and bring them together for a timeless\, yet relevant\, piece… and a rare modern classic. The Tony Award-winning book and score are both enchanting and touching. \nThe story follows a Baker and his wife\, who wish to have a child; Cinderella\, who wishes to attend the King’s Festival; and Jack\, who wishes his cow would give milk. When the Baker and his wife learn that they cannot have a child because of a Witch’s curse\, the two set off on a journey to break the curse. Everyone’s wish is granted\, but the consequences of their actions return to haunt them later with disastrous results. \nOne of Sondheim’s most popular works\, Into the Woods is a musically sophisticated show with the opportunity to feature actors adept at dark comedy. Designers will especially enjoy highlighting the fantastical elements of this magical word. \nDirected By: Noah Dobbs \nAuditions:  May 21st @ Baytown Little Theater and  22\,23 at Lee College Performing Arts Center all sessions are 7PM to 10PM \nAll performances at LEE COLLEGE PERFORMING ARTS CENTER 805 W Texas Ave\,  Baytown\, TX 77520
URL:https://baytownlittletheater.org/event/into-the-woods/2023-07-30/
LOCATION:LEE COLLEGE PERFORMING ARTS CENTER\, 805 West Texas Avenue\, Baytown\, TX\, 77520\, United States
END:VEVENT
BEGIN:VEVENT
DTSTART;TZID=America/Chicago:20230729T200000
DTEND;TZID=America/Chicago:20230729T223000
DTSTAMP:20260423T155937
CREATED:20230531T000246Z
LAST-MODIFIED:20230721T151504Z
UID:10000106-1690660800-1690669800@baytownlittletheater.org
SUMMARY:Into The Woods
DESCRIPTION:All Performance Dates:\nJuly 28 & 29 – 8:00 pm\nJuly 30 – 2:30 pm\nAugust 4 & 5 – 8:00 pm\nAugust 6 – 2:30 pm \nJames Lapine and Stephen Sondheim take everyone’s favorite storybook characters and bring them together for a timeless\, yet relevant\, piece… and a rare modern classic. The Tony Award-winning book and score are both enchanting and touching. \nThe story follows a Baker and his wife\, who wish to have a child; Cinderella\, who wishes to attend the King’s Festival; and Jack\, who wishes his cow would give milk. When the Baker and his wife learn that they cannot have a child because of a Witch’s curse\, the two set off on a journey to break the curse. Everyone’s wish is granted\, but the consequences of their actions return to haunt them later with disastrous results. \nOne of Sondheim’s most popular works\, Into the Woods is a musically sophisticated show with the opportunity to feature actors adept at dark comedy. Designers will especially enjoy highlighting the fantastical elements of this magical word. \nDirected By: Noah Dobbs \nAuditions:  May 21st @ Baytown Little Theater and  22\,23 at Lee College Performing Arts Center all sessions are 7PM to 10PM \nAll performances at LEE COLLEGE PERFORMING ARTS CENTER 805 W Texas Ave\,  Baytown\, TX 77520
URL:https://baytownlittletheater.org/event/into-the-woods/2023-07-29/
LOCATION:LEE COLLEGE PERFORMING ARTS CENTER\, 805 West Texas Avenue\, Baytown\, TX\, 77520\, United States
END:VEVENT
BEGIN:VEVENT
DTSTART;TZID=America/Chicago:20230728T200000
DTEND;TZID=America/Chicago:20230728T223000
DTSTAMP:20260423T155937
CREATED:20230531T000246Z
LAST-MODIFIED:20230721T151504Z
UID:10000112-1690574400-1690583400@baytownlittletheater.org
SUMMARY:Into The Woods
DESCRIPTION:All Performance Dates:\nJuly 28 & 29 – 8:00 pm\nJuly 30 – 2:30 pm\nAugust 4 & 5 – 8:00 pm\nAugust 6 – 2:30 pm \nJames Lapine and Stephen Sondheim take everyone’s favorite storybook characters and bring them together for a timeless\, yet relevant\, piece… and a rare modern classic. The Tony Award-winning book and score are both enchanting and touching. \nThe story follows a Baker and his wife\, who wish to have a child; Cinderella\, who wishes to attend the King’s Festival; and Jack\, who wishes his cow would give milk. When the Baker and his wife learn that they cannot have a child because of a Witch’s curse\, the two set off on a journey to break the curse. Everyone’s wish is granted\, but the consequences of their actions return to haunt them later with disastrous results. \nOne of Sondheim’s most popular works\, Into the Woods is a musically sophisticated show with the opportunity to feature actors adept at dark comedy. Designers will especially enjoy highlighting the fantastical elements of this magical word. \nDirected By: Noah Dobbs \nAuditions:  May 21st @ Baytown Little Theater and  22\,23 at Lee College Performing Arts Center all sessions are 7PM to 10PM \nAll performances at LEE COLLEGE PERFORMING ARTS CENTER 805 W Texas Ave\,  Baytown\, TX 77520
URL:https://baytownlittletheater.org/event/into-the-woods/2023-07-28/
LOCATION:LEE COLLEGE PERFORMING ARTS CENTER\, 805 West Texas Avenue\, Baytown\, TX\, 77520\, United States
END:VEVENT
END:VCALENDAR